BEGIN:VCALENDAR
VERSION:2.0
PRODID:-//Comedian JerroldB - ECPv6.15.20//NONSGML v1.0//EN
CALSCALE:GREGORIAN
METHOD:PUBLISH
X-ORIGINAL-URL:https://www.jerroldb.com
X-WR-CALDESC:Events for Comedian JerroldB
REFRESH-INTERVAL;VALUE=DURATION:PT1H
X-Robots-Tag:noindex
X-PUBLISHED-TTL:PT1H
BEGIN:VTIMEZONE
TZID:America/New_York
BEGIN:DAYLIGHT
TZOFFSETFROM:-0500
TZOFFSETTO:-0400
TZNAME:EDT
DTSTART:20240310T070000
END:DAYLIGHT
BEGIN:STANDARD
TZOFFSETFROM:-0400
TZOFFSETTO:-0500
TZNAME:EST
DTSTART:20241103T060000
END:STANDARD
BEGIN:DAYLIGHT
TZOFFSETFROM:-0500
TZOFFSETTO:-0400
TZNAME:EDT
DTSTART:20250309T070000
END:DAYLIGHT
BEGIN:STANDARD
TZOFFSETFROM:-0400
TZOFFSETTO:-0500
TZNAME:EST
DTSTART:20251102T060000
END:STANDARD
BEGIN:DAYLIGHT
TZOFFSETFROM:-0500
TZOFFSETTO:-0400
TZNAME:EDT
DTSTART:20260308T070000
END:DAYLIGHT
BEGIN:STANDARD
TZOFFSETFROM:-0400
TZOFFSETTO:-0500
TZNAME:EST
DTSTART:20261101T060000
END:STANDARD
END:VTIMEZONE
BEGIN:VEVENT
DTSTART;TZID=America/New_York:20250816T200000
DTEND;TZID=America/New_York:20250816T223000
DTSTAMP:20260423T195151
CREATED:20250714T173803Z
LAST-MODIFIED:20250813T152249Z
UID:9232-1755374400-1755383400@www.jerroldb.com
SUMMARY:Aug 16 - Union\, NJ
DESCRIPTION:Saturday\, Aug 16\, 2025 at Cafe Z – 2333 Morris Ave\, Union\, NJ
URL:https://www.jerroldb.com/event/aug-16-union-nj/
LOCATION:CT
CATEGORIES:Upcoming Shows
END:VEVENT
BEGIN:VEVENT
DTSTART;TZID=America/New_York:20250817T200000
DTEND;TZID=America/New_York:20250817T223000
DTSTAMP:20260423T195151
CREATED:20250723T233827Z
LAST-MODIFIED:20250813T152024Z
UID:9246-1755460800-1755469800@www.jerroldb.com
SUMMARY:Aug 17 - Bordentown\, NJ
DESCRIPTION:
URL:https://www.jerroldb.com/event/aug-17-bordentown-nj/
LOCATION:Bordentown Square Tap & Grill\, 233 Farnsworth Ave\, Bordentown\, NJ\, 08505\, United States
CATEGORIES:Upcoming Shows
END:VEVENT
BEGIN:VEVENT
DTSTART;TZID=America/New_York:20250822T200000
DTEND;TZID=America/New_York:20250822T223000
DTSTAMP:20260423T195151
CREATED:20250714T174230Z
LAST-MODIFIED:20250822T025155Z
UID:9236-1755892800-1755901800@www.jerroldb.com
SUMMARY:Aug 22 - East Windsor\, NJ
DESCRIPTION:GET UR TIX HERE!
URL:https://www.jerroldb.com/event/aug-22-east-windsor-nj/
LOCATION:Americana\, 359 US-130\, East Windsor\, NJ\, 08520\, United States
CATEGORIES:Upcoming Shows
END:VEVENT
END:VCALENDAR