BEGIN:VCALENDAR
VERSION:2.0
PRODID:-//Comedian JerroldB - ECPv6.15.20//NONSGML v1.0//EN
CALSCALE:GREGORIAN
METHOD:PUBLISH
X-WR-CALNAME:Comedian JerroldB
X-ORIGINAL-URL:https://www.jerroldb.com
X-WR-CALDESC:Events for Comedian JerroldB
REFRESH-INTERVAL;VALUE=DURATION:PT1H
X-Robots-Tag:noindex
X-PUBLISHED-TTL:PT1H
BEGIN:VTIMEZONE
TZID:America/New_York
BEGIN:DAYLIGHT
TZOFFSETFROM:-0500
TZOFFSETTO:-0400
TZNAME:EDT
DTSTART:20220313T070000
END:DAYLIGHT
BEGIN:STANDARD
TZOFFSETFROM:-0400
TZOFFSETTO:-0500
TZNAME:EST
DTSTART:20221106T060000
END:STANDARD
BEGIN:DAYLIGHT
TZOFFSETFROM:-0500
TZOFFSETTO:-0400
TZNAME:EDT
DTSTART:20230312T070000
END:DAYLIGHT
BEGIN:STANDARD
TZOFFSETFROM:-0400
TZOFFSETTO:-0500
TZNAME:EST
DTSTART:20231105T060000
END:STANDARD
BEGIN:DAYLIGHT
TZOFFSETFROM:-0500
TZOFFSETTO:-0400
TZNAME:EDT
DTSTART:20240310T070000
END:DAYLIGHT
BEGIN:STANDARD
TZOFFSETFROM:-0400
TZOFFSETTO:-0500
TZNAME:EST
DTSTART:20241103T060000
END:STANDARD
BEGIN:DAYLIGHT
TZOFFSETFROM:-0500
TZOFFSETTO:-0400
TZNAME:EDT
DTSTART:20250309T070000
END:DAYLIGHT
BEGIN:STANDARD
TZOFFSETFROM:-0400
TZOFFSETTO:-0500
TZNAME:EST
DTSTART:20251102T060000
END:STANDARD
END:VTIMEZONE
BEGIN:VEVENT
DTSTART;TZID=America/New_York:20240110T200000
DTEND;TZID=America/New_York:20240110T223000
DTSTAMP:20260424T065531
CREATED:20240228T015129Z
LAST-MODIFIED:20240228T015129Z
UID:8123-1704916800-1704925800@www.jerroldb.com
SUMMARY:Rocking out in Morristown\, NJ!
DESCRIPTION:
URL:https://www.jerroldb.com/event/rocking-out-in-morristown-nj/
LOCATION:NJ
CATEGORIES:Upcoming Shows
END:VEVENT
BEGIN:VEVENT
DTSTART;TZID=America/New_York:20231231T200000
DTEND;TZID=America/New_York:20231231T200000
DTSTAMP:20260424T065531
CREATED:20240228T015235Z
LAST-MODIFIED:20240228T015235Z
UID:8162-1704052800-1704052800@www.jerroldb.com
SUMMARY:NYE Comedy!!
DESCRIPTION:I’ll be bringing in NYE with the homies from:Laugh it Up! Comedy!\n35 Main St\nPoughkeepsie\, NY
URL:https://www.jerroldb.com/event/nye-comedy/
LOCATION:NJ
CATEGORIES:Upcoming Shows
END:VEVENT
BEGIN:VEVENT
DTSTART;TZID=America/New_York:20231230T200000
DTEND;TZID=America/New_York:20231230T223000
DTSTAMP:20260424T065531
CREATED:20240228T015115Z
LAST-MODIFIED:20240228T015115Z
UID:8120-1703966400-1703975400@www.jerroldb.com
SUMMARY:Catch A Rising Star – Princeton\, NJ!
DESCRIPTION:Once again I’ll be at Catch A Rising Star in Princeton\, NJ closing out the year for Dec. 30th! Get ur peeps and Come Thruuuuu!!Get ur tix here: https://www.ticketweb.com/event/jerrold-benford-and-friends-hyatt-regency-princeton-tickets/13868988
URL:https://www.jerroldb.com/event/catch-a-rising-star-princeton-nj/
LOCATION:NJ
CATEGORIES:Upcoming Shows
END:VEVENT
BEGIN:VEVENT
DTSTART;TZID=America/New_York:20231215T200000
DTEND;TZID=America/New_York:20231215T223000
DTSTAMP:20260424T065531
CREATED:20240228T015115Z
LAST-MODIFIED:20240228T015115Z
UID:8118-1702670400-1702679400@www.jerroldb.com
SUMMARY:Jockey Hollow Restaurant – Morristown NJ
DESCRIPTION:
URL:https://www.jerroldb.com/event/jockey-hollow-restaurant-morristown-nj/
LOCATION:NJ
CATEGORIES:Upcoming Shows
END:VEVENT
BEGIN:VEVENT
DTSTART;TZID=America/New_York:20231201T200000
DTEND;TZID=America/New_York:20231201T223000
DTSTAMP:20260424T065531
CREATED:20240228T015144Z
LAST-MODIFIED:20240228T015144Z
UID:8129-1701460800-1701469800@www.jerroldb.com
SUMMARY:The Colonial Theatre Ballroom
DESCRIPTION:Details coming!
URL:https://www.jerroldb.com/event/the-colonial-theatre-ballroom/
LOCATION:NJ
CATEGORIES:Upcoming Shows
END:VEVENT
BEGIN:VEVENT
DTSTART;TZID=America/New_York:20231116T200000
DTEND;TZID=America/New_York:20231116T223000
DTSTAMP:20260424T065531
CREATED:20240228T015132Z
LAST-MODIFIED:20240228T015132Z
UID:8128-1700164800-1700173800@www.jerroldb.com
SUMMARY:Back at the Waterfront!
DESCRIPTION:Yep! By pop demand I’ll be back at the Waterfront in Forked River\, NJ. If you’re in or not in the area\, COME THRUUUU! We will definitely make it worth the trip!
URL:https://www.jerroldb.com/event/back-at-the-waterfront/
LOCATION:NJ
CATEGORIES:Upcoming Shows
END:VEVENT
BEGIN:VEVENT
DTSTART;TZID=America/New_York:20231111T200000
DTEND;TZID=America/New_York:20231111T223000
DTSTAMP:20260424T065531
CREATED:20240228T015215Z
LAST-MODIFIED:20240228T015215Z
UID:8148-1699732800-1699741800@www.jerroldb.com
SUMMARY:Headlining the Sea Breeze Community!
DESCRIPTION:I’ll be co-headlining with Buda the comedian at Sea Breeze Community in Forked River\, NJ!!
URL:https://www.jerroldb.com/event/headlining-the-sea-breeze-community/
LOCATION:NJ
CATEGORIES:Upcoming Shows
END:VEVENT
BEGIN:VEVENT
DTSTART;TZID=America/New_York:20231111T080000
DTEND;TZID=America/New_York:20231111T180000
DTSTAMP:20260424T065531
CREATED:20240228T015115Z
LAST-MODIFIED:20240228T015115Z
UID:8119-1699689600-1699725600@www.jerroldb.com
SUMMARY:Private Show
DESCRIPTION:
URL:https://www.jerroldb.com/event/private-show/
LOCATION:NJ
END:VEVENT
BEGIN:VEVENT
DTSTART;TZID=America/New_York:20231104T183000
DTEND;TZID=America/New_York:20231104T203000
DTSTAMP:20260424T065531
CREATED:20240228T015147Z
LAST-MODIFIED:20240228T015147Z
UID:8135-1699122600-1699129800@www.jerroldb.com
SUMMARY:Private Event
DESCRIPTION:
URL:https://www.jerroldb.com/event/private-event-2/
LOCATION:NJ
CATEGORIES:Upcoming Shows
END:VEVENT
BEGIN:VEVENT
DTSTART;TZID=America/New_York:20231028T210000
DTEND;TZID=America/New_York:20231028T230000
DTSTAMP:20260424T065531
CREATED:20240228T015145Z
LAST-MODIFIED:20240228T015145Z
UID:8132-1698526800-1698534000@www.jerroldb.com
SUMMARY:Ocean Place Resort and Spa
DESCRIPTION:Saturday night October 28thTroy Moore\, John Conte and myself will be rocking out at the Ocean Place Seaview Restaurant & Lounge – 1 Ocean Blvd\, Long Branch\, NJ!\nTICKET LINK:\nhttps://www.eventbrite.com/e/seaside-chuckles-comedy-extravaganza-tickets-731263277147?aff=ebdssbdestsearch\nGet ready to laugh until your sides ache at the “Seaside Chuckles: Comedy Extravaganza” taking place at the luxurious Ocean Place Resort & Spa. It’s an unforgettable evening of hilarious stand-up comedy that will leave you in stitches and keep you talking about it long after the curtains close.\nPrepare for a night of non-stop laughter as we bring you some of the funniest comedians from across the country. Our carefully curated lineup guarantees a diverse range of comedic styles\, from clever wordplay to outrageous anecdotes\, ensuring there’s something for everyone.\nOcean Place Resort & Spa provides the perfect backdrop for an evening of entertainment. With breathtaking ocean views and a relaxing atmosphere\, you’ll feel like you’re on vacation while enjoying world-class comedy.\nOur event features a full-service bar with a wide selection of cocktails\, craft beers\, and wines\, ensuring you can toast to the good times with your favorite libations.\nLeave your worries at the door and immerse yourself in an evening of humor and entertainment. Whether you’re attending with friends\, family\, or flying solo\, you’ll find yourself surrounded by fellow laughter enthusiasts.\nDon’t miss your chance to experience the comedic brilliance of “Seaside Chuckles” at Ocean Place Resort & Spa. Get ready for an evening of side-splitting laughter\, oceanfront elegance\, and unforgettable moments. Grab your tickets now and prepare for a night of comedy that will have you laughing all the way home!
URL:https://www.jerroldb.com/event/ocean-place-resort-and-spa/
LOCATION:NJ
CATEGORIES:Upcoming Shows
END:VEVENT
BEGIN:VEVENT
DTSTART;TZID=America/New_York:20231026T200000
DTEND;TZID=America/New_York:20231026T223000
DTSTAMP:20260424T065531
CREATED:20240228T015144Z
LAST-MODIFIED:20240228T015144Z
UID:8130-1698350400-1698359400@www.jerroldb.com
SUMMARY:Private Event
DESCRIPTION:This Thursday night! Come out to 361 Lacey Rd\, Forked River\, NJ! Myself\, John Conte and Thomas Mongelli will be putting in work. COME THRUUUUUU!
URL:https://www.jerroldb.com/event/private-event/
LOCATION:NJ
CATEGORIES:Upcoming Shows
END:VEVENT
BEGIN:VEVENT
DTSTART;TZID=America/New_York:20231020T200000
DTEND;TZID=America/New_York:20231020T223000
DTSTAMP:20260424T065531
CREATED:20240228T015202Z
LAST-MODIFIED:20240228T015202Z
UID:8142-1697832000-1697841000@www.jerroldb.com
SUMMARY:Headlining the Hagerman Fire Dept!!
DESCRIPTION:
URL:https://www.jerroldb.com/event/headlining-the-hagerman-fire-dept/
LOCATION:NJ
CATEGORIES:Upcoming Shows
END:VEVENT
BEGIN:VEVENT
DTSTART;TZID=America/New_York:20231014T200000
DTEND;TZID=America/New_York:20231014T230000
DTSTAMP:20260424T065531
CREATED:20240228T015219Z
LAST-MODIFIED:20240228T015219Z
UID:8154-1697313600-1697324400@www.jerroldb.com
SUMMARY:Fundraiser for Red Bank Elks Lodge!
DESCRIPTION:
URL:https://www.jerroldb.com/event/fundraiser-for-red-bank-elks-lodge/
LOCATION:NJ
CATEGORIES:Upcoming Shows
END:VEVENT
BEGIN:VEVENT
DTSTART;TZID=America/New_York:20231013T200000
DTEND;TZID=America/New_York:20231013T223000
DTSTAMP:20260424T065531
CREATED:20240228T015218Z
LAST-MODIFIED:20240228T015218Z
UID:8152-1697227200-1697236200@www.jerroldb.com
SUMMARY:Comedy at Paradise Island!!
DESCRIPTION:
URL:https://www.jerroldb.com/event/comedy-at-paradise-island/
LOCATION:NJ
CATEGORIES:Upcoming Shows
END:VEVENT
BEGIN:VEVENT
DTSTART;TZID=America/New_York:20231012T200000
DTEND;TZID=America/New_York:20231012T230000
DTSTAMP:20260424T065531
CREATED:20240228T015146Z
LAST-MODIFIED:20240228T015146Z
UID:8134-1697140800-1697151600@www.jerroldb.com
SUMMARY:Rocking out at Scotty’s Pub!
DESCRIPTION:That’s right! Scotty’s Pub over in Springfield\, NJ with the hilarious Mike Burton. More details are coming and when they do\, get your tix immediately – they will sell out!
URL:https://www.jerroldb.com/event/rocking-out-at-scottys-pub/
LOCATION:NJ
CATEGORIES:Upcoming Shows
END:VEVENT
BEGIN:VEVENT
DTSTART;TZID=America/New_York:20230929T200000
DTEND;TZID=America/New_York:20230929T223000
DTSTAMP:20260424T065531
CREATED:20240228T015159Z
LAST-MODIFIED:20240228T015159Z
UID:8136-1696017600-1696026600@www.jerroldb.com
SUMMARY:Headlining Robert’s Bar & Grill in Berlin NJ
DESCRIPTION:
URL:https://www.jerroldb.com/event/headlining-roberts-bar-grill-in-berlin-nj/
LOCATION:NJ
CATEGORIES:Upcoming Shows
END:VEVENT
BEGIN:VEVENT
DTSTART;TZID=America/New_York:20230928T200000
DTEND;TZID=America/New_York:20230928T223000
DTSTAMP:20260424T065531
CREATED:20240228T015200Z
LAST-MODIFIED:20240228T015200Z
UID:8138-1695931200-1695940200@www.jerroldb.com
SUMMARY:Headlining Catch A Rising Star!
DESCRIPTION:Me and Vishnu Vaka and the lovely Gina DiMaggio will be returning to Catch A Rising Star in Princeton NJ!
URL:https://www.jerroldb.com/event/headlining-catch-a-rising-star/
LOCATION:NJ
CATEGORIES:Upcoming Shows
END:VEVENT
BEGIN:VEVENT
DTSTART;TZID=America/New_York:20230916T200000
DTEND;TZID=America/New_York:20230916T223000
DTSTAMP:20260424T065531
CREATED:20240228T015201Z
LAST-MODIFIED:20240228T015201Z
UID:8140-1694894400-1694903400@www.jerroldb.com
SUMMARY:Co-Headlining The Dojo of Comedy!
DESCRIPTION:Me and the homie Vishnu Vaka will be rocking the mic at The Dojo of Comedy at Tiffs Bar and Ale House in Morris Plains\, NJ – Come thruuu!
URL:https://www.jerroldb.com/event/co-headlining-the-dojo-of-comedy/
LOCATION:NJ
CATEGORIES:Upcoming Shows
END:VEVENT
BEGIN:VEVENT
DTSTART;TZID=America/New_York:20230826T200000
DTEND;TZID=America/New_York:20230826T230000
DTSTAMP:20260424T065531
CREATED:20240228T015229Z
LAST-MODIFIED:20240228T015229Z
UID:8155-1693080000-1693090800@www.jerroldb.com
SUMMARY:End Of Summer Comedy Bash!
DESCRIPTION:
URL:https://www.jerroldb.com/event/end-of-summer-comedy-bash/
LOCATION:NJ
CATEGORIES:Upcoming Shows
END:VEVENT
BEGIN:VEVENT
DTSTART;TZID=America/New_York:20230825T200000
DTEND;TZID=America/New_York:20230825T223000
DTSTAMP:20260424T065531
CREATED:20240228T015214Z
LAST-MODIFIED:20240228T015214Z
UID:8146-1692993600-1693002600@www.jerroldb.com
SUMMARY:Rocking Out in Phoenixville PA!!
DESCRIPTION:
URL:https://www.jerroldb.com/event/rocking-out-in-phoenixville-pa/
LOCATION:NJ
CATEGORIES:Upcoming Shows
END:VEVENT
BEGIN:VEVENT
DTSTART;TZID=America/New_York:20230824T200000
DTEND;TZID=America/New_York:20230824T223000
DTSTAMP:20260424T065531
CREATED:20240228T015217Z
LAST-MODIFIED:20240228T015217Z
UID:8150-1692907200-1692916200@www.jerroldb.com
SUMMARY:City Lounge Comedy!!
DESCRIPTION:What better way to end the summer? With some jokes\, of course! Come thruuuuuu!!
URL:https://www.jerroldb.com/event/city-lounge-comedy/
LOCATION:NJ
CATEGORIES:Upcoming Shows
END:VEVENT
BEGIN:VEVENT
DTSTART;TZID=America/New_York:20230812T200000
DTEND;TZID=America/New_York:20230812T230000
DTSTAMP:20260424T065531
CREATED:20240228T015231Z
LAST-MODIFIED:20240228T015231Z
UID:8157-1691870400-1691881200@www.jerroldb.com
SUMMARY:Comedy Show!
DESCRIPTION:
URL:https://www.jerroldb.com/event/comedy-show/
LOCATION:NJ
CATEGORIES:Upcoming Shows
END:VEVENT
BEGIN:VEVENT
DTSTART;TZID=America/New_York:20230811T200000
DTEND;TZID=America/New_York:20230811T230000
DTSTAMP:20260424T065531
CREATED:20240228T015203Z
LAST-MODIFIED:20240228T015203Z
UID:8144-1691784000-1691794800@www.jerroldb.com
SUMMARY:Mic Rocking in Grantville PA!
DESCRIPTION:
URL:https://www.jerroldb.com/event/mic-rocking-in-grantville-pa/
LOCATION:NJ
CATEGORIES:Upcoming Shows
END:VEVENT
BEGIN:VEVENT
DTSTART;TZID=America/New_York:20230805T200000
DTEND;TZID=America/New_York:20230805T230000
DTSTAMP:20260424T065531
CREATED:20240228T015232Z
LAST-MODIFIED:20240228T015232Z
UID:8159-1691265600-1691276400@www.jerroldb.com
SUMMARY:Special Event: KK’s B-Day at Catch A Rising Star!!
DESCRIPTION:
URL:https://www.jerroldb.com/event/special-event-kks-b-day-at-catch-a-rising-star/
LOCATION:NJ
CATEGORIES:Upcoming Shows
END:VEVENT
BEGIN:VEVENT
DTSTART;TZID=America/New_York:20230728T200000
DTEND;TZID=America/New_York:20230728T223000
DTSTAMP:20260424T065531
CREATED:20240228T015234Z
LAST-MODIFIED:20240228T015234Z
UID:8160-1690574400-1690583400@www.jerroldb.com
SUMMARY:Comedy
DESCRIPTION:
URL:https://www.jerroldb.com/event/comedy/
LOCATION:NJ
CATEGORIES:Upcoming Shows
END:VEVENT
BEGIN:VEVENT
DTSTART;TZID=America/New_York:20230720T203000
DTEND;TZID=America/New_York:20230720T213000
DTSTAMP:20260424T065531
CREATED:20240228T015247Z
LAST-MODIFIED:20240228T015247Z
UID:8168-1689885000-1689888600@www.jerroldb.com
SUMMARY:Back at Paint & Comedy Night – Paint With A Twist!
DESCRIPTION:PAINT WITH A TWIST wtih Comedian JerroldB!Get Ready to Have a Great Time. We will paint for approximately 1 1/2 hours then enjoy an hour of stand up comedy with Jerrold Benford from Broadway comedy club.\nPlease arrive 15 min early to get uncorked\, smocked & in your seat!\nIf you’re coming with others\, but making reservations separately\, give us your group’s name or point person in the Special Request box. We’ll seat you together!\nOur studio is for our painters only. Everyone needs a paid seat to stay on premises during all classes.\nWe are a BYOB so please bring any beer or wine with you.\nYou are invited to bring your own finger foods in case you get hungry.\nFINDING US: We are in the towaco section of Montville\, in the Quick Chek shopping center.
URL:https://www.jerroldb.com/event/back-at-paint-comedy-night-paint-with-a-twist/
LOCATION:NJ
CATEGORIES:Upcoming Shows
END:VEVENT
BEGIN:VEVENT
DTSTART;TZID=America/New_York:20230715T200000
DTEND;TZID=America/New_York:20230715T223000
DTSTAMP:20260424T065531
CREATED:20240228T015245Z
LAST-MODIFIED:20240228T015245Z
UID:8166-1689451200-1689460200@www.jerroldb.com
SUMMARY:It’s COMEDY NIGHT in Nazareth\, PA!
DESCRIPTION:We’ll be rocking out at the Bushkill Twp. Volunteer Fire Co.!155 Firehouse Lane\nNazareth PA
URL:https://www.jerroldb.com/event/its-comedy-night-in-nazareth-pa/
LOCATION:NJ
CATEGORIES:Upcoming Shows
END:VEVENT
BEGIN:VEVENT
DTSTART;TZID=America/New_York:20230714T200000
DTEND;TZID=America/New_York:20230714T223000
DTSTAMP:20260424T065531
CREATED:20240228T015244Z
LAST-MODIFIED:20240228T015244Z
UID:8165-1689364800-1689373800@www.jerroldb.com
SUMMARY:Comedy at Seashoreline Campers Resort!
DESCRIPTION:Come on out to Seashoreline Campers Resort!720 Kings Hwy\nOcean View\, NJ
URL:https://www.jerroldb.com/event/comedy-at-seashoreline-campers-resort/
LOCATION:NJ
CATEGORIES:Upcoming Shows
END:VEVENT
BEGIN:VEVENT
DTSTART;TZID=America/New_York:20230707T200000
DTEND;TZID=America/New_York:20230707T223000
DTSTAMP:20260424T065531
CREATED:20240228T015331Z
LAST-MODIFIED:20240228T015331Z
UID:8193-1688760000-1688769000@www.jerroldb.com
SUMMARY:Headlining the Pine Island Tap House!
DESCRIPTION:Come out and join us! More details coming!
URL:https://www.jerroldb.com/event/headlining-the-pine-island-tap-house/
LOCATION:NJ
CATEGORIES:Upcoming Shows
END:VEVENT
BEGIN:VEVENT
DTSTART;TZID=America/New_York:20230630T193000
DTEND;TZID=America/New_York:20230630T220000
DTSTAMP:20260424T065531
CREATED:20240228T015314Z
LAST-MODIFIED:20240228T015314Z
UID:8182-1688153400-1688162400@www.jerroldb.com
SUMMARY:JerroldB & Friends at Catch A Rising Star!
DESCRIPTION:
URL:https://www.jerroldb.com/event/jerroldb-friends-at-catch-a-rising-star-2/
LOCATION:NJ
CATEGORIES:Upcoming Shows
END:VEVENT
END:VCALENDAR