BEGIN:VCALENDAR
VERSION:2.0
PRODID:-//Comedian JerroldB - ECPv6.15.20//NONSGML v1.0//EN
CALSCALE:GREGORIAN
METHOD:PUBLISH
X-WR-CALNAME:Comedian JerroldB
X-ORIGINAL-URL:https://www.jerroldb.com
X-WR-CALDESC:Events for Comedian JerroldB
REFRESH-INTERVAL;VALUE=DURATION:PT1H
X-Robots-Tag:noindex
X-PUBLISHED-TTL:PT1H
BEGIN:VTIMEZONE
TZID:America/New_York
BEGIN:DAYLIGHT
TZOFFSETFROM:-0500
TZOFFSETTO:-0400
TZNAME:EDT
DTSTART:20230312T070000
END:DAYLIGHT
BEGIN:STANDARD
TZOFFSETFROM:-0400
TZOFFSETTO:-0500
TZNAME:EST
DTSTART:20231105T060000
END:STANDARD
BEGIN:DAYLIGHT
TZOFFSETFROM:-0500
TZOFFSETTO:-0400
TZNAME:EDT
DTSTART:20240310T070000
END:DAYLIGHT
BEGIN:STANDARD
TZOFFSETFROM:-0400
TZOFFSETTO:-0500
TZNAME:EST
DTSTART:20241103T060000
END:STANDARD
BEGIN:DAYLIGHT
TZOFFSETFROM:-0500
TZOFFSETTO:-0400
TZNAME:EDT
DTSTART:20250309T070000
END:DAYLIGHT
BEGIN:STANDARD
TZOFFSETFROM:-0400
TZOFFSETTO:-0500
TZNAME:EST
DTSTART:20251102T060000
END:STANDARD
BEGIN:DAYLIGHT
TZOFFSETFROM:-0500
TZOFFSETTO:-0400
TZNAME:EDT
DTSTART:20260308T070000
END:DAYLIGHT
BEGIN:STANDARD
TZOFFSETFROM:-0400
TZOFFSETTO:-0500
TZNAME:EST
DTSTART:20261101T060000
END:STANDARD
END:VTIMEZONE
BEGIN:VEVENT
DTSTART;TZID=America/New_York:20250117T200000
DTEND;TZID=America/New_York:20250117T230000
DTSTAMP:20260423T201433
CREATED:20241114T032224Z
LAST-MODIFIED:20250108T035019Z
UID:8748-1737144000-1737154800@www.jerroldb.com
SUMMARY:JAN 17 - Middletown\, NY
DESCRIPTION:Get ready to laugh your socks off! 🎤🍺 \n“Pints & Punchlines” is hitting the stage at Aspire Brewing on Friday\, January 17th at 8:30 PM\, and it’s the comedy event you don’t want to miss! \n🎉 Featuring a killer lineup of comedians: \n\nJerrold Benford – A comedy powerhouse with razor-sharp wit!\nNick Bailey – Bringing you bold\, fresh\, and laugh-out-loud humor!\nManny Ramos – Guaranteed to have you in stitches all night long!\n\nAnd it’s all hosted by the amazing Gina Gee\, a comedy queen who knows how to keep the good vibes rolling! \nScreenshot\nWhy you need to be there:\n🔥 Hilarious performances that will have you rolling in laughter.\n🍻 Amazing craft beer at Aspire Brewing to pair with the fun.\n🎟️ A perfect Friday night out with friends or a date! \n📍 Location: Aspire Brewing\n⏰ When: Friday\, January 17th @ 8:30 PM \n🎟️ Get your tickets now – don’t wait until they’re sold out! \n👉 This is more than a comedy show. It’s a night of great laughs\, great beer\, and unforgettable memories. Let’s make this Friday one for the books!
URL:https://www.jerroldb.com/event/jan-17-middletown-ny/
LOCATION:Aspire Brewing\, 600 N Galleria Dr\, Middletown\, NY\, 10941\, United States
CATEGORIES:Upcoming Shows
END:VEVENT
BEGIN:VEVENT
DTSTART;TZID=America/New_York:20250115T200000
DTEND;TZID=America/New_York:20250115T220000
DTSTAMP:20260423T201433
CREATED:20241022T162543Z
LAST-MODIFIED:20241121T154601Z
UID:8724-1736971200-1736978400@www.jerroldb.com
SUMMARY:January 15 - Garwood\, NJ
DESCRIPTION:🎤 A Night of Laughter 🎤 \nMark your calendar for Tuesday\, January 15\, 2025\, because we’re bringing the laughs to Cycle for Survival\, benefiting Memorial Sloan Kettering through Equinox! \n📍 Location: The Crossroads\, 78 North Ave\, Garwood\, NJ \n⏰ Doors Open: 6:30 PM | Showtime: 7:30–9:30 PM \nHosted by the hilarious Kim Johnny\, featuring headliner JerroldB\, with an all-star lineup: Tracy Locke\, Matt Bridgestone\, and Renee Minter. \nCome for the comedy\, stay for the cause. Let’s laugh together and make a difference in the fight against rare cancers! 🎭 \nTickets are limited—don’t wait! See you there! 🎉
URL:https://www.jerroldb.com/event/january-15-garwood-nj/
LOCATION:The Crossroads\, 78 North Ave\, Garwood\, NJ\, United States
CATEGORIES:Upcoming Shows
END:VEVENT
BEGIN:VEVENT
DTSTART;TZID=America/New_York:20241231T200000
DTEND;TZID=America/New_York:20241231T200000
DTSTAMP:20260423T201433
CREATED:20241022T162238Z
LAST-MODIFIED:20241125T015743Z
UID:8720-1735675200-1735675200@www.jerroldb.com
SUMMARY:December 31 - NYE at Catch A Rising Star!
DESCRIPTION:🎉 The Best NYE Deal in New Jersey is Back! Scroll Down for both shows!! 🎭 \nRing in 2025 at the Hyatt Regency Princeton with comedy\, dancing\, and nonstop fun! Choose from two amazing packages: \n✨ The Regency Package ($589/couple) \n•Overnight stay for 2 \n•Premium open bar 🍸 \n•Full buffet\, desserts\, and cocktail hour 🥂 \n•Comedy show featuring Gary Delena\, Jerrold Benford\, and NJ 101.5’s Jill Myra \n•DJ Jackie spinning all night 🎧 \n•Champagne toast at midnight \n✨ The Soiree Package ($439/couple or $219/person) \n•All the same party perks minus the overnight stay! \n📅 When: Tuesday\, December 31\, 2024 | 7:30 PM – 12:30 AM (Doors at 6:00 PM) \n📍 Where: Hyatt Regency Princeton\, 102 Carnegie Center\, Princeton\, NJ \n💃 Limited spots! Book now at Catch A Rising Star. \nStart the year with laughter and unforgettable memories! 🎊 \n🎤 New Year’s Eve Comedy Bash 🎭 \nCelebrate NYE with non-stop laughs featuring Jerrold Benford\, Vishnu Vaka\, and Amanda Gail at Catch A Rising Star inside the Hyatt Regency Princeton! \n📅 Date: New Year’s Eve \n📍 Location: 102 Carnegie Center\, Princeton\, NJ \n🎟️ Get Tickets Now: www.catcharisingstar.com \n📱 Text LOL to 555888 for contests\, giveaways\, and a chance to win FREE tickets for a year! \n🎉 Birthday Bonus: If it’s your birthday the week of the show\, you’re in FREE (with valid ID and reservation)! \nFollow @CatchNewJersey on Twitter & Facebook for exclusive deals and updates. \nRing in the New Year with comedy and good vibes—don’t miss it!
URL:https://www.jerroldb.com/event/december-31-nye-at-catch-a-rising-star/
LOCATION:Catch A Rising Star\, 102 Carnegie Center Dr\, Princeton\, NJ\, 07446\, United States
CATEGORIES:Upcoming Shows
END:VEVENT
BEGIN:VEVENT
DTSTART;TZID=America/New_York:20241228T200000
DTEND;TZID=America/New_York:20241228T220000
DTSTAMP:20260423T201433
CREATED:20241114T034715Z
LAST-MODIFIED:20241114T034715Z
UID:8757-1735416000-1735423200@www.jerroldb.com
SUMMARY:Dec 28 - Morris Plains\, NJ
DESCRIPTION:I’ll be headlining Tiff’s Comedy Club on Dec 28th right before Catch A Rising Star on the 31st!! Come out and see me!
URL:https://www.jerroldb.com/event/dec-28-morris-plains-nj/
LOCATION:Tiff’s Grill & Ale House\, 231 Speedwell Ave\, Morris Plains\, NJ\, 07950\, United States
CATEGORIES:Upcoming Shows
ATTACH;FMTTYPE=image/png:https://www.jerroldb.com/wp-content/uploads/2024/11/Screenshot-2024-04-02-at-11.29.30-PM.png
END:VEVENT
BEGIN:VEVENT
DTSTART;TZID=America/New_York:20241214T200000
DTEND;TZID=America/New_York:20241214T220000
DTSTAMP:20260423T201433
CREATED:20241102T161833Z
LAST-MODIFIED:20241114T033233Z
UID:8737-1734206400-1734213600@www.jerroldb.com
SUMMARY:Dec 14 - New Windsor\, NY
DESCRIPTION:This is just a straight wild out show!! Come thru!
URL:https://www.jerroldb.com/event/dec-14-new-windsor-ny/
LOCATION:Fish & Chikzzz\, 1012 Little Britain Rd\, New Windsor\, NY\, 12553\, United States
CATEGORIES:Upcoming Shows
END:VEVENT
BEGIN:VEVENT
DTSTART;TZID=America/New_York:20241206T200000
DTEND;TZID=America/New_York:20241206T220000
DTSTAMP:20260423T201433
CREATED:20241102T161452Z
LAST-MODIFIED:20241118T210922Z
UID:8733-1733515200-1733522400@www.jerroldb.com
SUMMARY:Dec 6 - Clayton\, NJ
DESCRIPTION:Get ready to laugh—and help some furry friends while you’re at it! 🐾 PAWS Healing Heroes is bringing comedy and compassion together for an unforgettable night at the Clayton Elk’s Lodge. \n🎤 When: Dec. 6th 8pm!! \n📍 Where: Clayton Elk’s Lodge\, Clayton\, NJ \n💵 Tickets: $20—come for the laughs\, stay for the cause! \nJoin us as we raise funds to support dogs in need. It’s a night of hilarious comedy\, heartwarming moments\, and a great cause. Bring your friends\, bring your laughter\, and let’s make a difference together! \n🐶 All proceeds go to helping our four-legged heroes heal and thrive.
URL:https://www.jerroldb.com/event/pawshealingheroes/
LOCATION:Clayton Elk’s Lodge\, 350 S Broad St.\, Clayton\, NJ\, United States
CATEGORIES:Upcoming Shows
END:VEVENT
BEGIN:VEVENT
DTSTART;TZID=America/New_York:20241204T200000
DTEND;TZID=America/New_York:20241204T220000
DTSTAMP:20260423T201433
CREATED:20241102T161553Z
LAST-MODIFIED:20241102T161947Z
UID:8735-1733342400-1733349600@www.jerroldb.com
SUMMARY:Dec 4 - Private Show
DESCRIPTION:
URL:https://www.jerroldb.com/event/dec-4-private-show/
LOCATION:NJ
ATTACH;FMTTYPE=image/png:https://www.jerroldb.com/wp-content/uploads/2024/04/Screenshot-2024-04-02-at-11.29.30-PM.png
END:VEVENT
BEGIN:VEVENT
DTSTART;TZID=America/New_York:20241112T103000
DTEND;TZID=America/New_York:20241112T113000
DTSTAMP:20260423T201433
CREATED:20241022T162323Z
LAST-MODIFIED:20241022T162404Z
UID:8722-1731407400-1731411000@www.jerroldb.com
SUMMARY:November 12 - Private Show
DESCRIPTION:
URL:https://www.jerroldb.com/event/november-12-private-show/
LOCATION:NJ
CATEGORIES:Upcoming Shows
ATTACH;FMTTYPE=image/png:https://www.jerroldb.com/wp-content/uploads/2024/04/Screenshot-2024-04-02-at-11.29.30-PM.png
END:VEVENT
BEGIN:VEVENT
DTSTART;TZID=America/New_York:20241019T200000
DTEND;TZID=America/New_York:20241019T220000
DTSTAMP:20260423T201433
CREATED:20240816T160733Z
LAST-MODIFIED:20240816T160733Z
UID:8491-1729368000-1729375200@www.jerroldb.com
SUMMARY:Oct 19 - Scranton\, PA
DESCRIPTION:Me and Rich Carucci are rocking out at the ANZ Hotel formerly the Four Points by Sheraton!
URL:https://www.jerroldb.com/event/oct-19-scranton-pa/
LOCATION:ANZ Hotel\, 300 Meadow Ave\, Scranton\, NJ\, United States
CATEGORIES:Upcoming Shows
ATTACH;FMTTYPE=image/png:https://www.jerroldb.com/wp-content/uploads/2024/04/Screenshot-2024-04-02-at-11.29.30-PM.png
END:VEVENT
BEGIN:VEVENT
DTSTART;TZID=America/New_York:20241017T200000
DTEND;TZID=America/New_York:20241017T220000
DTSTAMP:20260423T201433
CREATED:20240816T164448Z
LAST-MODIFIED:20240922T215234Z
UID:8498-1729195200-1729202400@www.jerroldb.com
SUMMARY:Oct 17 - Kinnelon NJ
DESCRIPTION:We’ll be doing it up big at Smoke Rise Inn in Kinnelon NJ!!
URL:https://www.jerroldb.com/event/oct-17-kinnelon-nj/
LOCATION:smoke Rise Inn\, 9 Perimeter Rd\, Kinnelon\, NJ\, United States
CATEGORIES:Upcoming Shows
END:VEVENT
BEGIN:VEVENT
DTSTART;TZID=America/New_York:20241013T080000
DTEND;TZID=America/New_York:20241013T170000
DTSTAMP:20260423T201433
CREATED:20241014T014853Z
LAST-MODIFIED:20241014T014853Z
UID:8715-1728806400-1728838800@www.jerroldb.com
SUMMARY:Jan 15 - Garwood NJ
DESCRIPTION:Produced by Kim Johnny \nDetails Coming!
URL:https://www.jerroldb.com/event/jan-15-garwood-nj/
LOCATION:NJ
CATEGORIES:Upcoming Shows
ATTACH;FMTTYPE=image/png:https://www.jerroldb.com/wp-content/uploads/2024/04/Screenshot-2024-04-02-at-11.29.30-PM.png
END:VEVENT
BEGIN:VEVENT
DTSTART;TZID=America/New_York:20241013T080000
DTEND;TZID=America/New_York:20241013T170000
DTSTAMP:20260423T201433
CREATED:20241014T014651Z
LAST-MODIFIED:20241014T014651Z
UID:8713-1728806400-1728838800@www.jerroldb.com
SUMMARY:Nov 12 - Private Event
DESCRIPTION:
URL:https://www.jerroldb.com/event/nov-12-private-event/
LOCATION:NJ
CATEGORIES:Upcoming Shows
ATTACH;FMTTYPE=image/png:https://www.jerroldb.com/wp-content/uploads/2024/04/Screenshot-2024-04-02-at-11.29.30-PM.png
END:VEVENT
BEGIN:VEVENT
DTSTART;TZID=America/New_York:20241013T080000
DTEND;TZID=America/New_York:20241013T170000
DTSTAMP:20260423T201433
CREATED:20241014T014541Z
LAST-MODIFIED:20241014T014541Z
UID:8711-1728806400-1728838800@www.jerroldb.com
SUMMARY:Dec 31 - Princeton\, NJ (Catch A Rising Star)
DESCRIPTION:This NYE I’ll be at Catch A Rising Star with some of my comedy pals. We’ll be bringing in the New Year properly! Link for tix coming up soon!
URL:https://www.jerroldb.com/event/dec-31-princeton-nj-catch-a-rising-star/
LOCATION:Catch A Rising Star\, 102 Carnegie Center Dr\, Princeton\, NJ\, 07446\, United States
CATEGORIES:Upcoming Shows
ATTACH;FMTTYPE=image/png:https://www.jerroldb.com/wp-content/uploads/2024/04/Screenshot-2024-04-02-at-11.29.30-PM.png
END:VEVENT
BEGIN:VEVENT
DTSTART;TZID=America/New_York:20241005T200000
DTEND;TZID=America/New_York:20241005T230000
DTSTAMP:20260423T201433
CREATED:20240619T034254Z
LAST-MODIFIED:20240925T025210Z
UID:8393-1728158400-1728169200@www.jerroldb.com
SUMMARY:Oct 5th - Mount Laurel\, NJ
DESCRIPTION:
URL:https://www.jerroldb.com/event/oct-5th-private-event/
LOCATION:Holiday Village East\, 101 Amaryllis Blvd\, Mt. Laurel twp\, NJ\, United States
CATEGORIES:Upcoming Shows
END:VEVENT
BEGIN:VEVENT
DTSTART;TZID=America/New_York:20241004T200000
DTEND;TZID=America/New_York:20241004T220000
DTSTAMP:20260423T201433
CREATED:20240816T161453Z
LAST-MODIFIED:20240816T162649Z
UID:8494-1728072000-1728079200@www.jerroldb.com
SUMMARY:Oct 4 - Princeton\, NJ - Catch A Rising Star
DESCRIPTION:I’ll be rocking the mic with comedians Gerald Lee and Matt Bridgestone!!
URL:https://www.jerroldb.com/event/oct-4-princeton-nj-catch-a-rising-star/
LOCATION:Catch A Rising Star\, 102 Carnegie Center Dr\, Princeton\, NJ\, 07446\, United States
END:VEVENT
BEGIN:VEVENT
DTSTART;TZID=America/New_York:20240927T200000
DTEND;TZID=America/New_York:20240927T220000
DTSTAMP:20260423T201433
CREATED:20240902T201259Z
LAST-MODIFIED:20240902T201605Z
UID:8527-1727467200-1727474400@www.jerroldb.com
SUMMARY:Sept 27 - Newburgh\, NY
DESCRIPTION:Come out to Toasted in Newburgh\, NY! My man Gilbert Hernandez puts on a helluva show!! \n 
URL:https://www.jerroldb.com/event/sept-27-newburgh-ny/
LOCATION:toasted\, 43 Liberty St\, Newburgh\, NY\, United States
CATEGORIES:Upcoming Shows
ATTACH;FMTTYPE=image/png:https://www.jerroldb.com/wp-content/uploads/2024/04/Screenshot-2024-04-02-at-11.29.30-PM.png
END:VEVENT
BEGIN:VEVENT
DTSTART;TZID=America/New_York:20240925T200000
DTEND;TZID=America/New_York:20240925T220000
DTSTAMP:20260423T201433
CREATED:20240902T200826Z
LAST-MODIFIED:20240902T200826Z
UID:8522-1727294400-1727301600@www.jerroldb.com
SUMMARY:Sept 25 - Morristown\, NJ
DESCRIPTION:I’ll be wilding out with comedians\, Gina DiMaggio\, Karen Krents and host Bob Pearsall!! If ur in the Morristown area COME THRUUUUU!
URL:https://www.jerroldb.com/event/sept-25-morristown-nj/
LOCATION:Laundromat Bar\, 4 Dehart St.\, Morristown\, NJ\, United States
CATEGORIES:Upcoming Shows
END:VEVENT
BEGIN:VEVENT
DTSTART;TZID=America/New_York:20240921T190000
DTEND;TZID=America/New_York:20240921T210000
DTSTAMP:20260423T201434
CREATED:20240902T200128Z
LAST-MODIFIED:20240902T200128Z
UID:8517-1726945200-1726952400@www.jerroldb.com
SUMMARY:Sept 21 - Atlantic City\, NJ
DESCRIPTION:KENAN THOMPSON HIMSELF IS COMING TO ATLANTIC CITY TO WATCH FOR THE BEST UP AND COMING COMICS!!! \nI AM HOSTING. HE WILL BE THERE SAT SEPT 21\, WITH ADDITIONAL SHOWS BEING OBSERVED BY HIS STAFF ON 9/19 and 9/20. \nCELEBRITY THEATER AT CLARIDGE. \n \nTix go on Sale this week. \nREAD MORE FOR DETAILS ON HOW TO PARTICIPATE. \nKenan Thompson will be coming to Atlantic City to watch comedians\, as well as a talent show for kids. He literally does this out of the goodness of his heart\, and to help people follow their dreams.  He will be in attendance on September 21st. There will be showcases September 19th and 20th\, and some of the top acts on those shows will be selected to return on the 21st\, to perform in front of him. \nFor the kids show\, on Sept 21\, if you know any talented youngsters\, message me for a signup link. \nComics can fill out this form in the link below\, and feel free to say that you heard about it from me.  Some very lucky ones could even get the chance to be a personal guest of Kenan at one of this years 50th Season of SNL tapings and afterparty.  Best of Luck.  Looking forward to seeing some of you on these shows. \nSpecial Thanks to Kenan and his business partner Cherie Chiles-Buchanan for this amazing opportunity for comics and young talent. \nDave Sirus will be our special industry guest observer on the 21st.  Credits include writer for SNL\, King Of Staten Island\, and Executive Producer of “Bupkis” on Peacock. \n\n  \n 
URL:https://www.jerroldb.com/event/sept-21-atlantic-city-nj/
LOCATION:Celebrity Theater at Claridge Hotel\, 123 S. Indiana Ave\, Atlantic City\, NJ\, United States
CATEGORIES:Upcoming Shows
END:VEVENT
BEGIN:VEVENT
DTSTART;VALUE=DATE:20240909
DTEND;VALUE=DATE:20240910
DTSTAMP:20260423T201434
CREATED:20240708T224835Z
LAST-MODIFIED:20240902T210828Z
UID:8409-1725840000-1725926399@www.jerroldb.com
SUMMARY:Sept 9 - Comics That Golf
DESCRIPTION:Hosted by Mel Hancock – let’s golf! \nOn Monday Sept 9th at 11am\, me and a bunch of comedians that share my love of golf will converge on the Riockland Lake Golf Course in Congers\, NY to put in work…and a whole lotta laffs! If ur a golfer or comedian\, come thru and join us!
URL:https://www.jerroldb.com/event/sept-9-private-event/
LOCATION:NJ
CATEGORIES:Upcoming Shows
END:VEVENT
BEGIN:VEVENT
DTSTART;TZID=America/New_York:20240816T200000
DTEND;TZID=America/New_York:20240816T223000
DTSTAMP:20260423T201434
CREATED:20240619T034205Z
LAST-MODIFIED:20240619T034205Z
UID:8391-1723838400-1723847400@www.jerroldb.com
SUMMARY:Aug 16th - Phoenixville\, PA
DESCRIPTION:I’ll be rocking out with the hilarious Cisco Hernandez! \nDetails coming!
URL:https://www.jerroldb.com/event/aug-16th-phoenixville-pa/
LOCATION:NJ
CATEGORIES:Upcoming Shows
ATTACH;FMTTYPE=image/png:https://www.jerroldb.com/wp-content/uploads/2024/04/Screenshot-2024-04-02-at-11.29.30-PM.png
END:VEVENT
BEGIN:VEVENT
DTSTART;TZID=America/New_York:20240810T200000
DTEND;TZID=America/New_York:20240810T230000
DTSTAMP:20260423T201434
CREATED:20240412T194711Z
LAST-MODIFIED:20240412T194711Z
UID:8316-1723320000-1723330800@www.jerroldb.com
SUMMARY:Aug 10 - Morristown NJ
DESCRIPTION:Coming back to the Jockey Hollow in Morristown\, NJ!! This room is fire and so is the food. So if ur free\, COME THRUUUU!!
URL:https://www.jerroldb.com/event/aug-10-morristown-nj/
LOCATION:Jockey Hollow\, Morristown\, NJ\, United States
CATEGORIES:Upcoming Shows
ATTACH;FMTTYPE=image/png:https://www.jerroldb.com/wp-content/uploads/2024/04/Screenshot-2024-04-02-at-11.29.30-PM.png
END:VEVENT
BEGIN:VEVENT
DTSTART;TZID=America/New_York:20240809T200000
DTEND;TZID=America/New_York:20240809T223000
DTSTAMP:20260423T201434
CREATED:20240715T031116Z
LAST-MODIFIED:20240715T031116Z
UID:8424-1723233600-1723242600@www.jerroldb.com
SUMMARY:Aug 9 - Atlantic City\, NJ
DESCRIPTION:
URL:https://www.jerroldb.com/event/aug-9-atlantic-city-nj-2/
LOCATION:Resorts Casino\, 1133 Boardwalk\, Atlantic City\, NJ\, 08401\, United States
CATEGORIES:Upcoming Shows
ATTACH;FMTTYPE=image/png:https://www.jerroldb.com/wp-content/uploads/2024/04/Screenshot-2024-04-02-at-11.29.30-PM.png
END:VEVENT
BEGIN:VEVENT
DTSTART;TZID=America/New_York:20240726T200000
DTEND;TZID=America/New_York:20240726T223000
DTSTAMP:20260423T201434
CREATED:20240619T035901Z
LAST-MODIFIED:20240716T025151Z
UID:8399-1722024000-1722033000@www.jerroldb.com
SUMMARY:July 26 - Canaan\, CT
DESCRIPTION:I’ll be rocking out with Ronnie Reed and friends! \nDetails coming!
URL:https://www.jerroldb.com/event/july-26-new-canaan-ct/
LOCATION:NJ
CATEGORIES:Upcoming Shows
ATTACH;FMTTYPE=image/png:https://www.jerroldb.com/wp-content/uploads/2024/04/Screenshot-2024-04-02-at-11.29.30-PM.png
END:VEVENT
BEGIN:VEVENT
DTSTART;TZID=America/New_York:20240724T200000
DTEND;TZID=America/New_York:20240724T223000
DTSTAMP:20260423T201434
CREATED:20240708T230059Z
LAST-MODIFIED:20240708T230059Z
UID:8412-1721851200-1721860200@www.jerroldb.com
SUMMARY:July 24 - Morris Plains NJ
DESCRIPTION:I’m back at the Dojo of Comedy at Tiffs Grill & Ale House! Come thruuuuu!!
URL:https://www.jerroldb.com/event/july-24-morris-plains-nj/
LOCATION:Tiff’s Grill & Ale House\, 231 Speedwell Ave\, Morris Plains\, NJ\, 07950\, United States
ATTACH;FMTTYPE=image/png:https://www.jerroldb.com/wp-content/uploads/2024/04/Screenshot-2024-04-02-at-11.29.30-PM.png
END:VEVENT
BEGIN:VEVENT
DTSTART;TZID=America/New_York:20240720T200000
DTEND;TZID=America/New_York:20240720T230000
DTSTAMP:20260423T201434
CREATED:20240619T034607Z
LAST-MODIFIED:20240619T034607Z
UID:8395-1721505600-1721516400@www.jerroldb.com
SUMMARY:July 20th - Private Event
DESCRIPTION:
URL:https://www.jerroldb.com/event/july-20th-private-event/
LOCATION:NJ
CATEGORIES:Upcoming Shows
ATTACH;FMTTYPE=image/png:https://www.jerroldb.com/wp-content/uploads/2024/04/Screenshot-2024-04-02-at-11.29.30-PM.png
END:VEVENT
BEGIN:VEVENT
DTSTART;TZID=America/New_York:20240718T200000
DTEND;TZID=America/New_York:20240718T223000
DTSTAMP:20260423T201434
CREATED:20240708T224242Z
LAST-MODIFIED:20240708T230633Z
UID:8404-1721332800-1721341800@www.jerroldb.com
SUMMARY:July 18 - Seaside NJ
DESCRIPTION:I’ll be at Hemingway’s Cafe in Seaside Heights! Come thruuuu!
URL:https://www.jerroldb.com/event/july-18-seaside-nj/
LOCATION:Hemingway’s Cafe\, 612 Boulevard\, Seaside Heights\, NJ\, 08751\, United States
ATTACH;FMTTYPE=image/png:https://www.jerroldb.com/wp-content/uploads/2024/04/Screenshot-2024-04-02-at-11.29.30-PM.png
END:VEVENT
BEGIN:VEVENT
DTSTART;TZID=America/New_York:20240717T200000
DTEND;TZID=America/New_York:20240717T223000
DTSTAMP:20260423T201434
CREATED:20240708T224149Z
LAST-MODIFIED:20240708T230922Z
UID:8402-1721246400-1721255400@www.jerroldb.com
SUMMARY:July 17 - Wildwood NJ
DESCRIPTION:I’ll be rocking out at The Waterfront in Wildwood\, NJ! Come thruuuuu!
URL:https://www.jerroldb.com/event/july-17-wildwood/
LOCATION:The Waterfront Wildwood\, 4415 Park Blvd\, Wildwood\, NJ\, 08260\, United States
ATTACH;FMTTYPE=image/png:https://www.jerroldb.com/wp-content/uploads/2024/04/Screenshot-2024-04-02-at-11.29.30-PM.png
END:VEVENT
BEGIN:VEVENT
DTSTART;TZID=America/New_York:20240712T200000
DTEND;TZID=America/New_York:20240712T223000
DTSTAMP:20260423T201434
CREATED:20240527T194553Z
LAST-MODIFIED:20240708T225114Z
UID:8382-1720814400-1720823400@www.jerroldb.com
SUMMARY:July 12 - Morristown NJ
DESCRIPTION:Colonial Comedy: The Best Live Comedy Show in Morristown\nCome join me and a host of other comics for a night of funny! \nLooking for something fun and inexpensive to do\, look no further. On Friday\, June 14th\, get ready for the best live comedy show in Morristown at the Morristown Masonic Center (39 Maple Ave\, Morristown). This show is Byob so feel free to bring something to drink and eat. (Must be 21+ to consume alcohol). The lineup of featured comics have performed everywhere from Rhino Comedy Club\, the Dojo of Comedy\, Stress Factory\, Helium Comedy Club\, and have also opened for big name comics such as Robert Kelly\, Rachel Feinstein\, Ben Bailey\, and Sam Tripoli. Our first show sold out\, so don’t hesitate to purchase your tix. \nUnlike most comedy shows\, there is no two item minimum. You won’t find a more affordable form of entertainment in downtown Morristown. Some adult content 21+. \nDoors open at 7:15pm and show starts at 8pm. Show time will be about 1 hour and 20 minutes. \nInexpensive parking on Dehart Street Garage (1 Block away)\nIf you have any questions\, please email ColonialComedy39@gmail.com or mphilibosian124@gmail.com. If it’s the day of the show\, use mphilibosian124@gmail.com.\nFollow us on Instagram @ColonialComedy39 for info about upcoming shows
URL:https://www.jerroldb.com/event/june-14th-morristown-nj/
LOCATION:Morristown Masonic Center\, 39 Maple Ave\, Morristown\, NJ\, United States
CATEGORIES:Upcoming Shows
END:VEVENT
BEGIN:VEVENT
DTSTART;TZID=America/New_York:20240708T080000
DTEND;TZID=America/New_York:20240708T170000
DTSTAMP:20260423T201434
CREATED:20240708T224649Z
LAST-MODIFIED:20240708T224649Z
UID:8406-1720425600-1720458000@www.jerroldb.com
SUMMARY:Aug 9 - Atlantic City\, NJ
DESCRIPTION:I’ll be at the Resorts Casino – Tower Conference Level with some special guests I don’t even know about! \nGet ur tix!!
URL:https://www.jerroldb.com/event/aug-9-atlantic-city-nj/
LOCATION:Resorts Casino\, 1133 Boardwalk\, Atlantic City\, NJ\, 08401\, United States
END:VEVENT
BEGIN:VEVENT
DTSTART;TZID=America/New_York:20240613T200000
DTEND;TZID=America/New_York:20240613T220000
DTSTAMP:20260423T201434
CREATED:20240301T171716Z
LAST-MODIFIED:20240403T033035Z
UID:8269-1718308800-1718316000@www.jerroldb.com
SUMMARY:June 13th - Catch A Rising Star!
DESCRIPTION:
URL:https://www.jerroldb.com/event/june-13th-catch-a-rising-star/
LOCATION:Catch A Rising Star\, 102 Carnegie Center Dr\, Princeton\, NJ\, 07446\, United States
CATEGORIES:Upcoming Shows
ATTACH;FMTTYPE=image/png:https://www.jerroldb.com/wp-content/uploads/2024/04/Screenshot-2024-04-02-at-11.29.30-PM.png
END:VEVENT
END:VCALENDAR