BEGIN:VCALENDAR
VERSION:2.0
PRODID:-//Comedian JerroldB - ECPv6.15.20//NONSGML v1.0//EN
CALSCALE:GREGORIAN
METHOD:PUBLISH
X-ORIGINAL-URL:https://www.jerroldb.com
X-WR-CALDESC:Events for Comedian JerroldB
REFRESH-INTERVAL;VALUE=DURATION:PT1H
X-Robots-Tag:noindex
X-PUBLISHED-TTL:PT1H
BEGIN:VTIMEZONE
TZID:America/New_York
BEGIN:DAYLIGHT
TZOFFSETFROM:-0500
TZOFFSETTO:-0400
TZNAME:EDT
DTSTART:20240310T070000
END:DAYLIGHT
BEGIN:STANDARD
TZOFFSETFROM:-0400
TZOFFSETTO:-0500
TZNAME:EST
DTSTART:20241103T060000
END:STANDARD
BEGIN:DAYLIGHT
TZOFFSETFROM:-0500
TZOFFSETTO:-0400
TZNAME:EDT
DTSTART:20250309T070000
END:DAYLIGHT
BEGIN:STANDARD
TZOFFSETFROM:-0400
TZOFFSETTO:-0500
TZNAME:EST
DTSTART:20251102T060000
END:STANDARD
BEGIN:DAYLIGHT
TZOFFSETFROM:-0500
TZOFFSETTO:-0400
TZNAME:EDT
DTSTART:20260308T070000
END:DAYLIGHT
BEGIN:STANDARD
TZOFFSETFROM:-0400
TZOFFSETTO:-0500
TZNAME:EST
DTSTART:20261101T060000
END:STANDARD
END:VTIMEZONE
BEGIN:VEVENT
DTSTART;TZID=America/New_York:20251213T140000
DTEND;TZID=America/New_York:20251213T170000
DTSTAMP:20260423T115057
CREATED:20251202T204158Z
LAST-MODIFIED:20251207T042339Z
UID:9365-1765634400-1765645200@www.jerroldb.com
SUMMARY:Dec 13 - The NextShift Premier\,  Brooklyn\, NY
DESCRIPTION:🎬 BROOKLYN\, WE GOT ACTION! \nYour boy JerroldB is hittin’ the big screen\, and I need ALL my people in the building! \nOn Friday\, December 13th\, pull up to Brooklyn\, New York for the screening of the independent film I’m in — The Next Shift Film. Yeah\, man… I’m acting now. Hollywood better stop playin’ with me. \n🎥 Showtime: 2:30 PM\n💸 Tickets: $23\n📍 Brooklyn\, NY\n🔗 Tickets: https://thenextshiftfilm.com (replace with correct link)\n🔗 IG: https://instagram.com/thenextshiftfilm\n🔗 My Website: https://JerroldB.com \nThis film is powerful\, funny\, real\, and everything in between — and Susan’s turned them into Susan’s\, so you KNOW the drama is real. 😂 \nCome out\, support independent filmmaking\, support your boy\, and let’s show Brooklyn how we do this Funny-For-No-Damn-Reason-slash-Serious-Actor energy all in the same afternoon. \nGet your tickets NOW and I’ll see you December 13th! 🎬🔥
URL:https://www.jerroldb.com/event/dec-13-brooklyn-ny/
CATEGORIES:Upcoming Shows
END:VEVENT
BEGIN:VEVENT
DTSTART;TZID=America/New_York:20251212T200000
DTEND;TZID=America/New_York:20251212T223000
DTSTAMP:20260423T115057
CREATED:20251124T215025Z
LAST-MODIFIED:20251124T215025Z
UID:9344-1765569600-1765578600@www.jerroldb.com
SUMMARY:Dec 12 - Princeton\, NJ
DESCRIPTION:OH WE TURNIN’ PRINCETON ALL THE WAY UP!!! 🎤🔥 \n \nCatch A Rising Star already KNOW what time it is —JerroldB is pulling up and bringing that “Funny For No Damn Reason” energy straight to the stage! \nDecember 12th & 13th we’re lighting up the Hyatt Regency Princeton with nonstop jokes\, real-life comedy\, and that signature JerroldB style that leaves people crying-laughing and questioning their abs the next morning 😤😂 \nAnd I’m not coming alone…I got my guy Jeff Paul in the building as special guest\, so you KNOW this lineup is certified pressure 💥 \nThis ain’t just a show…This is a whole COMEDY EXPERIENCE. \n🎟 Get your seats NOW before you hear about it from somebody who DID go:\n👉 catcharisingstar.com \nPull up. Laugh loud. Leave happy.Let’s make Princeton giggle responsibly 😎⭐ \n#JerroldB #FunnyForNoReason #CatchARisingStar #PrincetonComedy #StandUpEnergy #ComedyNightDoneRight 🎙️💛
URL:https://www.jerroldb.com/event/dec-12-princeton-nj-2/
LOCATION:Catch A Rising Star\, 102 Carnegie Center Dr\, Princeton\, NJ\, 07446\, United States
CATEGORIES:Upcoming Shows
END:VEVENT
BEGIN:VEVENT
DTSTART;TZID=America/New_York:20251210T190000
DTEND;TZID=America/New_York:20251210T193000
DTSTAMP:20260423T115057
CREATED:20251207T041917Z
LAST-MODIFIED:20251207T041917Z
UID:9371-1765393200-1765395000@www.jerroldb.com
SUMMARY:Dec 10 - Private Show
DESCRIPTION:
URL:https://www.jerroldb.com/event/dec-10-private-show/
CATEGORIES:Upcoming Shows
END:VEVENT
BEGIN:VEVENT
DTSTART;TZID=America/New_York:20251208T213000
DTEND;TZID=America/New_York:20251208T233000
DTSTAMP:20260423T115057
CREATED:20251207T042219Z
LAST-MODIFIED:20251207T042219Z
UID:9375-1765229400-1765236600@www.jerroldb.com
SUMMARY:Dec 8 - Queens\, NY
DESCRIPTION:
URL:https://www.jerroldb.com/event/dec-8-queens-ny/
CATEGORIES:Upcoming Shows
END:VEVENT
BEGIN:VEVENT
DTSTART;TZID=America/New_York:20251208T180000
DTEND;TZID=America/New_York:20251208T200000
DTSTAMP:20260423T115057
CREATED:20251202T200004Z
LAST-MODIFIED:20251202T200004Z
UID:9359-1765216800-1765224000@www.jerroldb.com
SUMMARY:DEC 8 - PRIVATE SHOW
DESCRIPTION:
URL:https://www.jerroldb.com/event/dec-8-private-show/
CATEGORIES:Upcoming Shows
END:VEVENT
BEGIN:VEVENT
DTSTART;TZID=America/New_York:20251108T200000
DTEND;TZID=America/New_York:20251108T223000
DTSTAMP:20260423T115057
CREATED:20251013T143759Z
LAST-MODIFIED:20251013T143759Z
UID:9318-1762632000-1762641000@www.jerroldb.com
SUMMARY:Nov 8 - Details coming soon!
DESCRIPTION:
URL:https://www.jerroldb.com/event/nov-8-details-coming-soon/
CATEGORIES:Upcoming Shows
END:VEVENT
BEGIN:VEVENT
DTSTART;TZID=America/New_York:20251101T203000
DTEND;TZID=America/New_York:20251101T223000
DTSTAMP:20260423T115057
CREATED:20251016T221031Z
LAST-MODIFIED:20251030T224536Z
UID:9325-1762029000-1762036200@www.jerroldb.com
SUMMARY:Nov 1 - The Dojo Of Comedy\, Morris Plains\, NJ
DESCRIPTION:🔥 Vishnu & JerroldB wildin’ at The Dojo! 🔥 \nYo Jersey! Friday night\, Nov 1st\, we turnin’ Tiff’s aka The Dojo Of Comedy into a laugh factory! 😤 \nIt’s your boy JerroldB\, bringin’ that Funny For No Reason energy\, tag-teamin’ with the one and only Vishnu Vaka — the dude who’ll be headlining and keeping u rollin’ out of ur seats! 💀😂 \n🎤 Showtime: 8:30 PM\n📍 Tiff’s aka The Dojo Of Comedy — 231 Speedwell Ave\, Morris Plains\, NJ\n💵 $25 Tickets | 🔞 21+\n👉 Get yours now at TiffsComedy.com \n  \nPure unadulterated funny — just real-life\, uncut comedy straight outta Jersey.\nGrab your crew\, your date\, or that one friend who always laughs too loud and come catch the vibe! \n#JerroldBenford #VishnuVaka #FunnyForNoReason #DojoOfComedy #TiffsComedy #NJComedy #StandUp #LiveLaughJersey
URL:https://www.jerroldb.com/event/nov-1-morris-plains-nj/
LOCATION:Tiff’s Grill & Ale House\, 231 Speedwell Ave\, Morris Plains\, NJ\, 07950\, United States
CATEGORIES:Upcoming Shows
END:VEVENT
BEGIN:VEVENT
DTSTART;TZID=America/New_York:20251025T203000
DTEND;TZID=America/New_York:20251025T230000
DTSTAMP:20260423T115057
CREATED:20250309T185857Z
LAST-MODIFIED:20250309T185857Z
UID:9144-1761424200-1761433200@www.jerroldb.com
SUMMARY:Oct 25 - Scranton\, PA - Private
DESCRIPTION:
URL:https://www.jerroldb.com/event/oct-25-scranton-pa-private/
CATEGORIES:Upcoming Shows
END:VEVENT
BEGIN:VEVENT
DTSTART;TZID=America/New_York:20251024T200000
DTEND;TZID=America/New_York:20251024T230000
DTSTAMP:20260423T115057
CREATED:20250716T162152Z
LAST-MODIFIED:20251030T225642Z
UID:9242-1761336000-1761346800@www.jerroldb.com
SUMMARY:Oct 24 - Mantoloking\, NJ
DESCRIPTION:🎭✨ SHORE COMEDY SERIES IS BACK! ✨🎭 \nWe’re lighting up the Mantoloking Road Playhouse for a night of non-stop laughs and big-time talent! \n📅 Friday\, October 24th⏰ Doors 7:00 PM | Showtime 8:00 PM📍 266 Mantoloking Road\, Brick\, NJ \n\n🔥 LINEUP 🔥 \n\n\n🎙️ Headliner: Johnny Watson (SNL\, Good Morning America) \n\n\n🎤 Host: Janet Regensburg (Gotham Comedy Club) \n\n\n🤩 Featuring: Jerrold Benford (Catch a Rising Star) \n\n\n🎉 Special Guest: Kim Jonny (The Stand NYC) \n\n\n\n🎟️ Tickets only $25 (Adults Only)👉 Get yours now: www.bcctplayhousetickets.com📞 Info: 732-920-9041 \n\nThis is the kind of lineup that makes you forget about your work week and laugh ‘til your face hurts 😂💯 Don’t miss it!
URL:https://www.jerroldb.com/event/oct-24-mantoloking-nj/
LOCATION:Mantoloking Playhouse\, 266 Mantoloking Rd\, Brick Township\, NJ\, 08723\, United States
CATEGORIES:Upcoming Shows
END:VEVENT
BEGIN:VEVENT
DTSTART;TZID=America/New_York:20251020T210000
DTEND;TZID=America/New_York:20251020T230000
DTSTAMP:20260423T115057
CREATED:20251013T170515Z
LAST-MODIFIED:20251016T221923Z
UID:9322-1760994000-1761001200@www.jerroldb.com
SUMMARY:Oct 20 - Bayside\, Queens
DESCRIPTION:
URL:https://www.jerroldb.com/event/oct-20-bayside-queens/
LOCATION:The Yeah Brothers CC\, 3931 Bell Blvd\, Bayside\, NJ\, United States
CATEGORIES:Upcoming Shows
END:VEVENT
BEGIN:VEVENT
DTSTART;TZID=America/New_York:20251018T200000
DTEND;TZID=America/New_York:20251018T223000
DTSTAMP:20260423T115057
CREATED:20250723T233953Z
LAST-MODIFIED:20250723T233953Z
UID:9248-1760817600-1760826600@www.jerroldb.com
SUMMARY:Oct 18 - Private Event
DESCRIPTION:
URL:https://www.jerroldb.com/event/oct-18-private-event/
CATEGORIES:Upcoming Shows
END:VEVENT
BEGIN:VEVENT
DTSTART;TZID=America/New_York:20251017T200000
DTEND;TZID=America/New_York:20251017T220000
DTSTAMP:20260423T115057
CREATED:20250906T022119Z
LAST-MODIFIED:20251016T223533Z
UID:9291-1760731200-1760738400@www.jerroldb.com
SUMMARY:Oct 17 - Grantville\, PA
DESCRIPTION:🎤🔥 I’m headlining Laughingstock Comedy Club! 🔥🎤\nOCTOBER 17th — LAUGHINGSTOCK COMEDY CLUB \nIt’s goin’ DOWN at 8 PM sharp when I take the stage as your HEADLINER for a night of nonstop laughs and raw energy! ⚡️💯 \nI’m bringing the 🔥 with me and rolling in with my hilarious feature Gina DiMaggio — trust me\, she’s a comedy assassin who’s gonna set it off before I tear the roof off this joint. 🏆😂 \n📍 Laughingstock Comedy Club🕗 Thursday\, October 17th | 8:00 PM🌐 Tickets & info: www.laughingstock.com \n🎟️ Don’t wait till the last second—snag those tickets\, pull up with the crew\, and let’s make this one a night to remember. Laughter is mandatory\, weak stomachs beware 🤣🙌
URL:https://www.jerroldb.com/event/oct-17-grantville-pa/
LOCATION:Laughinstock Comedy Club\, 604 Station Rd\, Grantville\, PA\, 17028\, United States
CATEGORIES:Upcoming Shows
END:VEVENT
BEGIN:VEVENT
DTSTART;TZID=America/New_York:20251003T203000
DTEND;TZID=America/New_York:20251003T230000
DTSTAMP:20260423T115057
CREATED:20250917T170715Z
LAST-MODIFIED:20250917T170715Z
UID:9301-1759523400-1759532400@www.jerroldb.com
SUMMARY:Oct 3 - Morris Plains\, NJ
DESCRIPTION:  \n🎤 Yo\, Morris Plains and errrrywhere else! Friday night is about to go OFF THE RAILS at The Dojo of Comedy at Tiff’s Restaurant & Bar! \n🔥 JerroldB is takin’ the mic and bringin’ that 🔥 heat\, that 🔊 energy\, and those 💀 killer punchlines you’ve been waitin’ for! \n🎭 Featuring the hilarious Vishnu Vaka – you know it’s gonna be a problem (the GOOD kind)! \n🪑 Seating: 7:30 PM🎤 Showtime: 8:30 PM \n📍 Tiff’s Restaurant & Bar\, Morris Plains\, NJ \n💥 Pull up\, bring your crew\, grab a drink\, and get ready for a night of laughs that’ll have you talkin’ all weekend. Comedy\, good vibes\, and straight-up 🔥 energy — this is where you wanna be. \n🎟️ Grab your tickets NOW – don’t miss out!
URL:https://www.jerroldb.com/event/oct-3-morris-plains-nj/
LOCATION:Tiff’s Grill & Ale House\, 231 Speedwell Ave\, Morris Plains\, NJ\, 07950\, United States
CATEGORIES:Upcoming Shows
END:VEVENT
BEGIN:VEVENT
DTSTART;TZID=America/New_York:20250926T210000
DTEND;TZID=America/New_York:20250926T230000
DTSTAMP:20260423T115057
CREATED:20250906T023354Z
LAST-MODIFIED:20250906T023354Z
UID:9294-1758920400-1758927600@www.jerroldb.com
SUMMARY:Sept 26 - Resorts\, AC
DESCRIPTION:🎤🔥 RESORTS\, ATLANTIC CITY — SEPTEMBER 26TH 🔥🎤\n\n\n🏆 HEADLINER: Jerrold B – bringing that raw\, high-energy comedy heat \n\n\n😂 Featuring killers: Ray Vasquez & Greg Giraldo\, Jr. \n\n\n🎭 Resorts Atlantic City – the city where laughter hits harder than the slots \n\n\n🕗 Thursday\, Sept 26th | 8 PM \n\n\n🎟️ Get your tickets NOW 👉 www.acjokes.com \n\n\n⚡ One night\, three heavy hitters.⚡ Atlantic City won’t know what hit ‘em.⚡ Big laughs\, bright lights\, boardwalk energy. \nDon’t gamble on another show 🎰 … bet on this one.
URL:https://www.jerroldb.com/event/sept-26-resorts-ac/
LOCATION:Resorts Casino\, 1133 Boardwalk\, Atlantic City\, NJ\, 08401\, United States
CATEGORIES:Upcoming Shows
END:VEVENT
BEGIN:VEVENT
DTSTART;TZID=America/New_York:20250924T000000
DTEND;TZID=America/New_York:20250924T170000
DTSTAMP:20260423T115057
CREATED:20250917T171243Z
LAST-MODIFIED:20250917T171243Z
UID:9307-1758672000-1758733200@www.jerroldb.com
SUMMARY:Sept 24 - Private Event
DESCRIPTION:
URL:https://www.jerroldb.com/event/sept-24-private-event/
CATEGORIES:Upcoming Shows
END:VEVENT
BEGIN:VEVENT
DTSTART;TZID=America/New_York:20250920T200000
DTEND;TZID=America/New_York:20250920T230000
DTSTAMP:20260423T115057
CREATED:20250830T013803Z
LAST-MODIFIED:20250830T013803Z
UID:9285-1758398400-1758409200@www.jerroldb.com
SUMMARY:Sept 20 - The Claridge\, AC\, NJ
DESCRIPTION:
URL:https://www.jerroldb.com/event/sept-20-the-claridge-ac-nj/
LOCATION:The Claridge\, 123 S Indiana Ave\, Atlantic City\, NJ\, United States
CATEGORIES:Upcoming Shows
END:VEVENT
BEGIN:VEVENT
DTSTART;TZID=America/New_York:20250918T210000
DTEND;TZID=America/New_York:20250918T223000
DTSTAMP:20260423T115057
CREATED:20250906T015821Z
LAST-MODIFIED:20250906T015821Z
UID:9288-1758229200-1758234600@www.jerroldb.com
SUMMARY:Sept 18 - WESTSIDE COMEDY CLUB\, NYC
DESCRIPTION:🚨 NYC! It’s about to go down! 🚨 \nI’ll be rocking a spot at Vishnu Vaka’s Great American Self-Driven Tour 🎤🔥 \nWe’re takin’ over the legendary Westside Comedy Club 🗽\nThis lineup is STACKED\, the laughs will be LOUD\, and the vibes? Pure CHAOS 😂💥 \n🎟️ Get your tickets NOW and come wild out with us 👉 Great American Self-Driven Tour Tix \n\nAbout the Tour\nVishnu Vaka is a world-traveling standup beast 🌎—originally from India\, 14 schools by 5th grade\, moved to the US\, kept the accent\, gained the weight\, earned the citizenship 🇺🇸… and now he’s out here CRUSHING stages everywhere! \n\nSo NYC\, don’t play around—pull up\, sip something strong 🍸\, and let’s make this night one for the books! 📚💯 \n 
URL:https://www.jerroldb.com/event/sept-18-westside-comedy-club-nyc/
LOCATION:Westside Comedy Club\, 201 W 75th St\, New York City\, NY\, United States
CATEGORIES:Upcoming Shows
END:VEVENT
BEGIN:VEVENT
DTSTART;TZID=America/New_York:20250914T190000
DTEND;TZID=America/New_York:20250914T220000
DTSTAMP:20260423T115057
CREATED:20250830T013359Z
LAST-MODIFIED:20250906T031102Z
UID:9281-1757876400-1757887200@www.jerroldb.com
SUMMARY:Sept 14 - Queens\, NY
DESCRIPTION:  \n🎤💨 JOKE DEALERS LIVE! 💨🎤Pull up for a Sunday night full of smoke\, BBQ\, and pure comedy fire! \n📅 Sunday\, September 14th📍 Smoke BBQ Pit – 129-21 Merrick Blvd\, Springfield Gardens\, NY 11434⏰ Doors open 6 PM | Showtime 7 PM \n\n🎭 LINEUP \n\n\n🎙️ Host: Sekou Ali \n\n\n😂 Joker: Jerrold Benford \n\n\n🔥 Linda Marcus Smith \n\n\n💯 Crenshaw White \n\n\n🎤 Laz Rivero \n\n\n🎭 Warren Simpson \n\n\n🤩 Priya Blunts \n\n\n✨ Special Guest: Shelly Christian \n\n\n\n🎟️ Tickets: $15 on Eventbrite | $20 at the door🎶 Live Band: Coolest\, Collect🍗 Comedy + Smoke + BBQ = Vibes you don’t wanna miss!🚨 18+ to enter | 2 item minimum \n👉 Grab your tickets now!
URL:https://www.jerroldb.com/event/sept-14-queens-ny/
LOCATION:Joke Dealers Smoke BBQ Pit\, 129-21 Merrick Blvd\, Springfield Gardens\, NY\, United States
CATEGORIES:Upcoming Shows
END:VEVENT
BEGIN:VEVENT
DTSTART;TZID=America/New_York:20250913T080000
DTEND;TZID=America/New_York:20250913T170000
DTSTAMP:20260423T115057
CREATED:20250813T152514Z
LAST-MODIFIED:20250813T153202Z
UID:9261-1757750400-1757782800@www.jerroldb.com
SUMMARY:Sept 13 - Private Event
DESCRIPTION:
URL:https://www.jerroldb.com/event/sept-13-private-event/
CATEGORIES:Upcoming Shows
END:VEVENT
BEGIN:VEVENT
DTSTART;TZID=America/New_York:20250906T200000
DTEND;TZID=America/New_York:20250906T223000
DTSTAMP:20260423T115057
CREATED:20250515T215130Z
LAST-MODIFIED:20250515T215242Z
UID:9193-1757188800-1757197800@www.jerroldb.com
SUMMARY:Sept 6 - Private Show
DESCRIPTION:
URL:https://www.jerroldb.com/event/sept-6-private-show/
CATEGORIES:Upcoming Shows
END:VEVENT
BEGIN:VEVENT
DTSTART;TZID=America/New_York:20250822T200000
DTEND;TZID=America/New_York:20250822T223000
DTSTAMP:20260423T115057
CREATED:20250714T174230Z
LAST-MODIFIED:20250822T025155Z
UID:9236-1755892800-1755901800@www.jerroldb.com
SUMMARY:Aug 22 - East Windsor\, NJ
DESCRIPTION:GET UR TIX HERE!
URL:https://www.jerroldb.com/event/aug-22-east-windsor-nj/
LOCATION:Americana\, 359 US-130\, East Windsor\, NJ\, 08520\, United States
CATEGORIES:Upcoming Shows
END:VEVENT
BEGIN:VEVENT
DTSTART;TZID=America/New_York:20250817T200000
DTEND;TZID=America/New_York:20250817T223000
DTSTAMP:20260423T115057
CREATED:20250723T233827Z
LAST-MODIFIED:20250813T152024Z
UID:9246-1755460800-1755469800@www.jerroldb.com
SUMMARY:Aug 17 - Bordentown\, NJ
DESCRIPTION:
URL:https://www.jerroldb.com/event/aug-17-bordentown-nj/
LOCATION:Bordentown Square Tap & Grill\, 233 Farnsworth Ave\, Bordentown\, NJ\, 08505\, United States
CATEGORIES:Upcoming Shows
END:VEVENT
BEGIN:VEVENT
DTSTART;TZID=America/New_York:20250816T200000
DTEND;TZID=America/New_York:20250816T223000
DTSTAMP:20260423T115057
CREATED:20250714T173803Z
LAST-MODIFIED:20250813T152249Z
UID:9232-1755374400-1755383400@www.jerroldb.com
SUMMARY:Aug 16 - Union\, NJ
DESCRIPTION:Saturday\, Aug 16\, 2025 at Cafe Z – 2333 Morris Ave\, Union\, NJ
URL:https://www.jerroldb.com/event/aug-16-union-nj/
CATEGORIES:Upcoming Shows
END:VEVENT
BEGIN:VEVENT
DTSTART;TZID=America/New_York:20250721T200000
DTEND;TZID=America/New_York:20250721T223000
DTSTAMP:20260423T115057
CREATED:20250714T173721Z
LAST-MODIFIED:20250714T173721Z
UID:9230-1753128000-1753137000@www.jerroldb.com
SUMMARY:July 21 - Bayside NY
DESCRIPTION:
URL:https://www.jerroldb.com/event/july-21-bayside-ny/
CATEGORIES:Upcoming Shows
END:VEVENT
BEGIN:VEVENT
DTSTART;TZID=America/New_York:20250719T200000
DTEND;TZID=America/New_York:20250719T223000
DTSTAMP:20260423T115057
CREATED:20250707T020303Z
LAST-MODIFIED:20250707T020303Z
UID:9217-1752955200-1752964200@www.jerroldb.com
SUMMARY:July 19 - Princeton\, NJ
DESCRIPTION:🎤 Get Ready to Roll with Laughter! 🎤 \nJoin me\, Comedian JerroldB\, for the JerroldB & Friends shows at Catch a Rising Star in Princeton\, NJ\, on July 18th and 19th! Friday’s show kicks off at 8 PM\, and Saturday’s show starts at 7:30 PM. \nI’m gonna be talking mad trash and straight crowdworkin’ yall arses 🤣  Don’t miss out—grab your tickets now at catcharisingstar.com and let’s get turnt! 😂🔥
URL:https://www.jerroldb.com/event/july-19-princeton-nj/
LOCATION:Catch A Rising Star\, 102 Carnegie Center Dr\, Princeton\, NJ\, 07446\, United States
CATEGORIES:Upcoming Shows
END:VEVENT
BEGIN:VEVENT
DTSTART;TZID=America/New_York:20250718T200000
DTEND;TZID=America/New_York:20250719T230000
DTSTAMP:20260423T115057
CREATED:20250529T020659Z
LAST-MODIFIED:20250707T020039Z
UID:9207-1752868800-1752966000@www.jerroldb.com
SUMMARY:July 18 - Princeton\, NJ
DESCRIPTION:🎤 Get Ready to Roll with Laughter! 🎤 \nJoin me\, Comedian JerroldB\, for the JerroldB & Friends shows at Catch a Rising Star in Princeton\, NJ\, on July 18th and 19th! Friday’s show kicks off at 8 PM\, and Saturday’s show starts at 7:30 PM. \nI’m gonna be talking mad trash and straight crowdworkin’ yall arses 🤣  Don’t miss out—grab your tickets now at catcharisingstar.com and let’s get turnt! 😂🔥
URL:https://www.jerroldb.com/event/july-18-19-princeton-nj/
LOCATION:Catch A Rising Star\, 102 Carnegie Center Dr\, Princeton\, NJ\, 07446\, United States
CATEGORIES:Upcoming Shows
END:VEVENT
BEGIN:VEVENT
DTSTART;TZID=America/New_York:20250712T200000
DTEND;TZID=America/New_York:20250712T230000
DTSTAMP:20260423T115057
CREATED:20250529T125915Z
LAST-MODIFIED:20250529T125915Z
UID:9210-1752350400-1752361200@www.jerroldb.com
SUMMARY:July 12 - Private Event
DESCRIPTION:
URL:https://www.jerroldb.com/event/july-12-private-event/
CATEGORIES:Upcoming Shows
END:VEVENT
BEGIN:VEVENT
DTSTART;TZID=America/New_York:20250621T200000
DTEND;TZID=America/New_York:20250621T220000
DTSTAMP:20260423T115057
CREATED:20250228T000009Z
LAST-MODIFIED:20250308T164107Z
UID:9055-1750536000-1750543200@www.jerroldb.com
SUMMARY:June 21 - Scranton\, PA
DESCRIPTION:🚨 PRIVATE SHOW ALERT! 🚨 \nOn June 21st\, JerroldB is bringing the laughs for an exclusive night of comedy! This ain’t your average gig—it’s a private event\, so if you’re in the room\, consider yourself VIP-level lucky. \nExpect the same wild energy\, sharp jokes\, and unfiltered fun that JerroldB is known for. If you’re not on the list… well\, better luck next time. 😏 \nStay locked in—more public shows coming soon! 🔥
URL:https://www.jerroldb.com/event/june-21-scranton-pa/
CATEGORIES:Upcoming Shows
END:VEVENT
BEGIN:VEVENT
DTSTART;TZID=America/New_York:20250606T200000
DTEND;TZID=America/New_York:20250606T223000
DTSTAMP:20260423T115057
CREATED:20250407T234309Z
LAST-MODIFIED:20250407T234355Z
UID:9169-1749240000-1749249000@www.jerroldb.com
SUMMARY:June 6 - Resorts\, AC
DESCRIPTION:Details Coming Soon!
URL:https://www.jerroldb.com/event/june-6-resorts-ac/
LOCATION:Resorts Casino\, 1133 Boardwalk\, Atlantic City\, NJ\, 08401\, United States
CATEGORIES:Upcoming Shows
END:VEVENT
BEGIN:VEVENT
DTSTART;TZID=America/New_York:20250605T200000
DTEND;TZID=America/New_York:20250605T220000
DTSTAMP:20260423T115057
CREATED:20250408T000959Z
LAST-MODIFIED:20250427T172653Z
UID:9173-1749153600-1749160800@www.jerroldb.com
SUMMARY:June 5 - Atlantic Highlands\, NJ
DESCRIPTION:🎤 Get Ready\, Atlantic Highlands — Comedy is About to Explode at Gaslight Pub! 🎤\nDate: June 5Location: Gaslight Pub\, 33 First Ave.\, Atlantic Highlands\, New JerseyShowtime: 8:00 PMTickets: $20 – $30 🎟️ (Worth every penny for the laughs you’re about to get!) \n🔥 Buckle up for a WILD night of comedy\, chaos\, and crazy-good times! 🔥 \nHere’s what’s coming your way: \n\n\n🎙️ Headliner: The outrageously funny Jerrold Benford — bringing the heat and the laughs all night long! \n\n\n🍻 Awesome drinks\, great vibes\, and a crowd that’s ready to GET LOUD! \n\n\n🎉 A night so funny\, your face will hurt from smiling — guaranteed! \n\n\nGaslight Pub is turning into the ultimate laugh factory on June 5. Whether you’re from Atlantic Highlands or just cruising through\, this is the comedy event you don’t want to miss! 😎 \n👉 Secure your tickets now and lock in a front-row seat to the madness! \nBring your friends\, bring your energy\, and let’s make it a night to remember! 🎊 \n#AtlanticHighlandsComedy #GaslightPub #GeraldBenfordLive #NJComedyShow
URL:https://www.jerroldb.com/event/june-5-atlantic-highlands-nj/
LOCATION:Gaslight Pub\, 33 First Ave\, Atlantic Highlands\, NJ\, 07716\, United States
CATEGORIES:Upcoming Shows
END:VEVENT
END:VCALENDAR