BEGIN:VCALENDAR
VERSION:2.0
PRODID:-//Comedian JerroldB - ECPv6.15.20//NONSGML v1.0//EN
CALSCALE:GREGORIAN
METHOD:PUBLISH
X-ORIGINAL-URL:https://www.jerroldb.com
X-WR-CALDESC:Events for Comedian JerroldB
REFRESH-INTERVAL;VALUE=DURATION:PT1H
X-Robots-Tag:noindex
X-PUBLISHED-TTL:PT1H
BEGIN:VTIMEZONE
TZID:America/New_York
BEGIN:DAYLIGHT
TZOFFSETFROM:-0500
TZOFFSETTO:-0400
TZNAME:EDT
DTSTART:20250309T070000
END:DAYLIGHT
BEGIN:STANDARD
TZOFFSETFROM:-0400
TZOFFSETTO:-0500
TZNAME:EST
DTSTART:20251102T060000
END:STANDARD
BEGIN:DAYLIGHT
TZOFFSETFROM:-0500
TZOFFSETTO:-0400
TZNAME:EDT
DTSTART:20260308T070000
END:DAYLIGHT
BEGIN:STANDARD
TZOFFSETFROM:-0400
TZOFFSETTO:-0500
TZNAME:EST
DTSTART:20261101T060000
END:STANDARD
BEGIN:DAYLIGHT
TZOFFSETFROM:-0500
TZOFFSETTO:-0400
TZNAME:EDT
DTSTART:20270314T070000
END:DAYLIGHT
BEGIN:STANDARD
TZOFFSETFROM:-0400
TZOFFSETTO:-0500
TZNAME:EST
DTSTART:20271107T060000
END:STANDARD
END:VTIMEZONE
BEGIN:VEVENT
DTSTART;TZID=America/New_York:20260220T200000
DTEND;TZID=America/New_York:20260220T223000
DTSTAMP:20260423T173030
CREATED:20251221T221705Z
LAST-MODIFIED:20251221T231629Z
UID:9406-1771617600-1771626600@www.jerroldb.com
SUMMARY:Feb 20 - Elizabeth\, NJ
DESCRIPTION:🚨 ELIZABETH\, NJ — COMING SOON 🚨 \nYeah… I’m bringing this comedy STRAIGHT to Elizabeth and I’m telling you now so you can’t say you didn’t know. \n🎤 Jerrold Benford LIVE📅 Friday\, February 20📍 Elizabeth👀 Details coming soon… \nNo venue name yet.No lineup announced.No ticket link dropped. \nBut trust me —when this one goes live\, it’s gonna MOVE. \nPut it on your calendar.Tell your people.And keep your eyes open… because February 20 is about to get Funny For No Damn Reason. \nMore info loading… ⏳🔥 \n#ComingSoon #ElizabethNJ #JerroldBenford #FunnyForNoDamnReason #February20 #StandUpComedy
URL:https://www.jerroldb.com/event/feb-20-elizabeth-nj/
CATEGORIES:Upcoming Shows
END:VEVENT
BEGIN:VEVENT
DTSTART;TZID=America/New_York:20260227T200000
DTEND;TZID=America/New_York:20260227T223000
DTSTAMP:20260423T173030
CREATED:20260105T162037Z
LAST-MODIFIED:20260222T070807Z
UID:9444-1772222400-1772231400@www.jerroldb.com
SUMMARY:Feb 27 - Phoenixville\, PA
DESCRIPTION:🎤 Live Stand-Up Comedy in Phoenixville! 🎤 \n \nGet ready to laugh your socks off! I’m hitting Phoenixville on Friday\, February 27th for a night of unforgettable comedy at Great American Pub Phoenixville — your local go-to for great food\, drinks\, and good times. (The Great American Pub) \n📍 Location: 148 Bridge Street\, Phoenixville\, PA\n🗓 Date: Friday\, February 27th\n⏰ Showtime: 8pm \nIf you love comedy and good times\, you do not want to miss this one. Tell a friend\, grab a drink\, and let’s make Phoenixville laugh! 🎟️🔥 \n 
URL:https://www.jerroldb.com/event/feb-27-phoenixville-pa/
END:VEVENT
BEGIN:VEVENT
DTSTART;TZID=America/New_York:20260228T200000
DTEND;TZID=America/New_York:20260228T223000
DTSTAMP:20260423T173030
CREATED:20260116T015853Z
LAST-MODIFIED:20260116T015853Z
UID:9460-1772308800-1772317800@www.jerroldb.com
SUMMARY:Feb 28 - Private Show
DESCRIPTION:
URL:https://www.jerroldb.com/event/feb-28-private-show/
END:VEVENT
BEGIN:VEVENT
DTSTART;TZID=America/New_York:20260306T200000
DTEND;TZID=America/New_York:20260306T223000
DTSTAMP:20260423T173030
CREATED:20251207T041713Z
LAST-MODIFIED:20251207T041713Z
UID:9369-1772827200-1772836200@www.jerroldb.com
SUMMARY:March 6 - Private Show
DESCRIPTION:
URL:https://www.jerroldb.com/event/march-6-private-show/
CATEGORIES:Upcoming Shows
END:VEVENT
BEGIN:VEVENT
DTSTART;TZID=America/New_York:20260307T200000
DTEND;TZID=America/New_York:20260307T223000
DTSTAMP:20260423T173030
CREATED:20251202T200934Z
LAST-MODIFIED:20251202T200934Z
UID:9363-1772913600-1772922600@www.jerroldb.com
SUMMARY:March 7 - Kingston\, NY
DESCRIPTION:🎤 YO KINGSTON! \nIt’s your boy JerroldB is pullin’ up to High Falls Café on Friday\, March 7th\, and listen… I’m not just on the show — I’m HEADLINING! \nWe takin’ over Kingston\, New York\, and I’m bringin’ that energy\, that attitude\, that “did he really just say that?” comedy. It’s gonna be one of those nights where you laugh so hard your cousin who never laughs be lookin’ around like\, “Aight… he funny for no damn reason.” \nAnd trust me… I am funny for no damn reason. \nDoors open\, vibes set\, drinks flowing — all you gotta do is show up\, sit down\, and let me act a damn fool on stage. \n📍 High Falls Café\n📅 Friday\, March 7th\n🎤 Headliner: JerroldB \nPull up\, Kingston. Let’s make some memories and hurt some stomach muscles.
URL:https://www.jerroldb.com/event/march-7-kingston-ny/
CATEGORIES:Upcoming Shows
END:VEVENT
BEGIN:VEVENT
DTSTART;TZID=America/New_York:20260313T200000
DTEND;TZID=America/New_York:20260313T223000
DTSTAMP:20260423T173030
CREATED:20260116T020042Z
LAST-MODIFIED:20260116T020042Z
UID:9462-1773432000-1773441000@www.jerroldb.com
SUMMARY:Mar 13 - Newburgh\, NY
DESCRIPTION:Hurricane Grill & Wings \n829 Broadway \nNewburgh\, NY
URL:https://www.jerroldb.com/event/mar-13-newburgh-ny/
END:VEVENT
BEGIN:VEVENT
DTSTART;TZID=America/New_York:20260320T200000
DTEND;TZID=America/New_York:20260320T223000
DTSTAMP:20260423T173030
CREATED:20250723T234125Z
LAST-MODIFIED:20251124T220908Z
UID:9250-1774036800-1774045800@www.jerroldb.com
SUMMARY:Mar 20 - Milton\, DE
DESCRIPTION:Details Coming Soon!
URL:https://www.jerroldb.com/event/mar-20-milton-de/
LOCATION:Milton Theater\, 110 Union St.\, Milton\, DE\, United States
CATEGORIES:Upcoming Shows
END:VEVENT
BEGIN:VEVENT
DTSTART;TZID=America/New_York:20260328T200000
DTEND;TZID=America/New_York:20260328T223000
DTSTAMP:20260423T173030
CREATED:20251221T221839Z
LAST-MODIFIED:20251221T224749Z
UID:9408-1774728000-1774737000@www.jerroldb.com
SUMMARY:Mar 28 - New Egypt\, NJ
DESCRIPTION:🚨 NEW EGYPT\, NJ — MARK YOUR CALENDAR. 🚨 \nFRIDAY\, MARCH 28\nI’m pulling up with Kricket Comedy at Laurita Winery\, and this ain’t just a comedy show…\nTHIS IS A WHOLE EXPERIENCE. \n🍷 Laurita Winery\n📍 85 Archertown Rd\, New Egypt\, NJ 08533\n📅 Friday\, March 28\n⏰ Show starts at 8:00 PM \nWine flowing 🍷\nLaughs hitting reckless 🤣\nAnd me on stage doing what I do best —\nFUNNY. FOR. NO. DAMN. REASON. \nIf your week been disrespectful…\nIf life been doing the MOST…\nIf you need a night where the only responsibility is laughing and sipping wine — \n👉🏾 THIS. IS. YOUR. SHOW. \n🎤 JerroldB LIVE\nNo filters. No fluff.\nJust real talk\, real laughs\, and comedy that sneaks up on you and punches joy right in the chest. \nPull up early. Bring your people.\nAnd if you don’t laugh…\nI’ll still be drinking the wine 😌🍷 \n#JerroldB #FunnyForNoDamnReason #KricketComedy #LauritaWinery #NewEgyptNJ #NJComedy #March28 #WineAndLaughs #LiveComedy \n\nIf you want\, next I can: \n\ncompress this into a tight IG caption\nturn it into a 30-second Reel/TikTok script\nor make a flyer headline + subhead\n\nJust say the word 🎤🔥
URL:https://www.jerroldb.com/event/mar-28-new-egypt-nj/
CATEGORIES:Upcoming Shows
END:VEVENT
BEGIN:VEVENT
DTSTART;TZID=America/New_York:20260407T170000
DTEND;TZID=America/New_York:20260407T180000
DTSTAMP:20260423T173030
CREATED:20260406T035501Z
LAST-MODIFIED:20260406T035501Z
UID:9527-1775581200-1775584800@www.jerroldb.com
SUMMARY:April 7 - North Brunswick\, NJ
DESCRIPTION:I’ve just been informed this show is PRIVATE! Next time 💪🏾
URL:https://www.jerroldb.com/event/april-7-north-brunswick-nj/
CATEGORIES:Upcoming Shows
END:VEVENT
BEGIN:VEVENT
DTSTART;TZID=America/New_York:20260418T200000
DTEND;TZID=America/New_York:20260418T223000
DTSTAMP:20260423T173030
CREATED:20251202T200324Z
LAST-MODIFIED:20251202T200324Z
UID:9361-1776542400-1776551400@www.jerroldb.com
SUMMARY:April 18 - Private Show
DESCRIPTION:
URL:https://www.jerroldb.com/event/april-18-private-show/
CATEGORIES:Upcoming Shows
END:VEVENT
BEGIN:VEVENT
DTSTART;TZID=America/New_York:20260502T190000
DTEND;TZID=America/New_York:20260502T213000
DTSTAMP:20260423T173030
CREATED:20260422T130849Z
LAST-MODIFIED:20260422T130849Z
UID:9562-1777748400-1777757400@www.jerroldb.com
SUMMARY:May 2 - Cape May
DESCRIPTION:
URL:https://www.jerroldb.com/event/may-2-cape-may/
CATEGORIES:Upcoming Shows
END:VEVENT
BEGIN:VEVENT
DTSTART;TZID=America/New_York:20260503T133000
DTEND;TZID=America/New_York:20260503T180000
DTSTAMP:20260423T173030
CREATED:20260422T131255Z
LAST-MODIFIED:20260422T140851Z
UID:9567-1777815000-1777831200@www.jerroldb.com
SUMMARY:May 3 - North Brunswick\, NJ
DESCRIPTION:🏎️🔥 F1 VIEWING DAY PARTY – MAY 3RD 🔥🏎️ \nNorth Brunswick… this ain’t just a watch party… this is a whole EXPERIENCE. \nWe’re talking fast cars\, live F1 action\, billiards\, food\, and a comedy vibe all in one spot. And yeah… comedian Jerrold B is pulling up to do a little performance too 😏🎤 \n📅 Saturday\, May 3rd⏰ 1:30 PM – 6:00 PM📍 Komickarma774 Shoppes Blvd\, North Brunswick Township\, NJ \n🏁 Car Show🎱 Billiards😂 Comedy🍔 Food🏎️ F1 Viewing \nRSVP: supercarshar@gmail.com \nPull up\, bring the crew\, and catch a vibe where horsepower meets punchlines 😄 \nF1 Viewing at Komic Karma
URL:https://www.jerroldb.com/event/may-3-north-brunswick-nj/
LOCATION:Komic Karma\, 774 Shoppes Blvd\, North Brunswick\, NJ\, 08902\, United States
CATEGORIES:Upcoming Shows
END:VEVENT
BEGIN:VEVENT
DTSTART;TZID=America/New_York:20260508T200000
DTEND;TZID=America/New_York:20260508T223000
DTSTAMP:20260423T173030
CREATED:20260407T125430Z
LAST-MODIFIED:20260422T140302Z
UID:9544-1778270400-1778279400@www.jerroldb.com
SUMMARY:May 8 - Princeton\, NJ
DESCRIPTION:Jerrold B is bringing the heat with a killer lineup at Catch a Rising Star in Princeton!\nPull up for a night of straight-up funny for no damn reason. \n🎤 Headliner: Jerrold Benford🎤 Host: Jay Joshi🎤 Featuring: Brian Parks \n📅 Date: Friday\, May 8\, 2026🕗 Time: 7:30 PM (Show starts around 8 PM) 📍 Location: Hyatt Regency Princeton102 Carnegie Center\, Princeton\, NJ \n🎟 Tickets:👉 https://www.ticketweb.com/event/jerrold-benford-hyatt-regency-princeton-tickets/14851093 \n💡 2-item minimum (food or drink) per person at the show
URL:https://www.jerroldb.com/event/may-8-princeton-nj/
LOCATION:Catch A Rising Star\, 102 Carnegie Center Dr\, Princeton\, NJ\, 07446\, United States
CATEGORIES:Upcoming Shows
END:VEVENT
BEGIN:VEVENT
DTSTART;TZID=America/New_York:20260509T193000
DTEND;TZID=America/New_York:20260509T213000
DTSTAMP:20260423T173030
CREATED:20260406T040528Z
LAST-MODIFIED:20260422T141046Z
UID:9530-1778355000-1778362200@www.jerroldb.com
SUMMARY:May 9 - Monroeville\, NJ
DESCRIPTION:🔥🍸 KRICKET COMEDY NIGHT @ PINE TAVERN DISTILLERY 🍸🔥 \nThis one’s got good drinks\, great vibes\, and even better comedy. Kricket Comedy is bringing a stacked lineup to Pine Tavern Distillery… and it’s about to get REAL funny 😄 \nFeaturing a killer crew:🎤 Jerrold Benford🎤 Holly Huff🎤 Shevaun Brannigan \nAnd yeah… comedian Jerrold B is sliding through to do a little performance too 😏🎤 \n📅 Saturday\, May 9th⏰ Seating: 7 PM | Show: 7:30 PM📍 Pine Tavern Distillery \n🎟 Tickets: kricketcomedy.com💰 $15 Early Bird | $20 after 5/2 \nCome for the drinks… stay for the laughs… leave wondering why your face hurts from laughing 😂 \n \n  \n  \n  \n  \n  \n  \n  \n  \n  \n  \n  \n  \n  \n  \n  \n  \n  \n  \n  \n  \n  \n  \n  \n  \n  \n  \n 
URL:https://www.jerroldb.com/event/may-9-monroeville-nj/
LOCATION:Pine Tavern Distillery\, 149A Pine Tavern Rd\, Monroeville\, NJ\, United States
CATEGORIES:Upcoming Shows
END:VEVENT
BEGIN:VEVENT
DTSTART;TZID=America/New_York:20260513T120000
DTEND;TZID=America/New_York:20260513T163000
DTSTAMP:20260423T173030
CREATED:20260406T040930Z
LAST-MODIFIED:20260406T040930Z
UID:9540-1778673600-1778689800@www.jerroldb.com
SUMMARY:May 13 - Private Show
DESCRIPTION:
URL:https://www.jerroldb.com/event/may-13-private-show/
CATEGORIES:Upcoming Shows
END:VEVENT
BEGIN:VEVENT
DTSTART;TZID=America/New_York:20260515T200000
DTEND;TZID=America/New_York:20260515T223000
DTSTAMP:20260423T173030
CREATED:20260406T040701Z
LAST-MODIFIED:20260406T040701Z
UID:9534-1778875200-1778884200@www.jerroldb.com
SUMMARY:May 15 - Carbondale\, PA
DESCRIPTION:
URL:https://www.jerroldb.com/event/may-15-carbondale-pa/
CATEGORIES:Upcoming Shows
END:VEVENT
BEGIN:VEVENT
DTSTART;TZID=America/New_York:20260517T183000
DTEND;TZID=America/New_York:20260517T200000
DTSTAMP:20260423T173030
CREATED:20260407T163332Z
LAST-MODIFIED:20260407T163332Z
UID:9546-1779042600-1779048000@www.jerroldb.com
SUMMARY:May 17 - Caribou\, ME
DESCRIPTION:
URL:https://www.jerroldb.com/event/may-17-caribou-me/
CATEGORIES:Upcoming Shows
END:VEVENT
BEGIN:VEVENT
DTSTART;TZID=America/New_York:20260529T200000
DTEND;TZID=America/New_York:20260529T223000
DTSTAMP:20260423T173030
CREATED:20260422T131043Z
LAST-MODIFIED:20260422T141208Z
UID:9565-1780084800-1780093800@www.jerroldb.com
SUMMARY:May 29 - Union\, NJ
DESCRIPTION:🔥🎤 RORO & FRIENDS COMEDY NIGHT 🎤🔥 \nUnion\, NJ… we got a vibe for you. This ain’t just a comedy show—this is a full night out. Laugh first\, sing later… yeah\, karaoke after the jokes 🎶😂 \nPull up to House of Playokee for a stacked lineup that’s about to get wild: \n🎤 Headliner: Jerrold Benford🎤 Host: RoRo Antonuccio🎤 Featuring: Olga Namer \nAnd yeah… comedian Jerrold B is stepping in to do a little performance too 😏🔥 \n📅 Friday\, May 29th⏰ 6:30 PM (Come eat & grab your seat)🎤 Showtime: 8 PM📍 House of Playokee1050 Stuyvesant Ave\, Union\, NJ \n🎟 Tickets: $25 + tax🍽 2-item minimum🍷 BYOB + wine menu available \nLaugh hard\, sing louder\, and make it a night 😄
URL:https://www.jerroldb.com/event/may-29-union-nj/
LOCATION:House of Playokee\, 1050 Stuyvesant Ave\, Union\, NJ\, United States
CATEGORIES:Upcoming Shows
END:VEVENT
BEGIN:VEVENT
DTSTART;TZID=America/New_York:20260605T200000
DTEND;TZID=America/New_York:20260605T223000
DTSTAMP:20260423T173030
CREATED:20260422T131750Z
LAST-MODIFIED:20260422T134411Z
UID:9571-1780689600-1780698600@www.jerroldb.com
SUMMARY:June 5 - Canaan\, CT
DESCRIPTION:
URL:https://www.jerroldb.com/event/june-5-canaan-ct/
LOCATION:Colonial Theater\, 27 Railroad St\, Canaan\, CT\, 06018\, United States
CATEGORIES:Upcoming Shows
END:VEVENT
BEGIN:VEVENT
DTSTART;TZID=America/New_York:20260613T200000
DTEND;TZID=America/New_York:20260613T223000
DTSTAMP:20260423T173030
CREATED:20260422T131413Z
LAST-MODIFIED:20260422T131413Z
UID:9569-1781380800-1781389800@www.jerroldb.com
SUMMARY:June 13 - North Brunswick\, NJ
DESCRIPTION:
URL:https://www.jerroldb.com/event/june-13-north-brunswick-nj/
CATEGORIES:Upcoming Shows
END:VEVENT
BEGIN:VEVENT
DTSTART;TZID=America/New_York:20260618T190000
DTEND;TZID=America/New_York:20260618T213000
DTSTAMP:20260423T173030
CREATED:20260406T040843Z
LAST-MODIFIED:20260406T040843Z
UID:9538-1781809200-1781818200@www.jerroldb.com
SUMMARY:June 18 - Private Show
DESCRIPTION:
URL:https://www.jerroldb.com/event/june-18-private-show/
CATEGORIES:Upcoming Shows
END:VEVENT
BEGIN:VEVENT
DTSTART;TZID=America/New_York:20260627T200000
DTEND;TZID=America/New_York:20260627T223000
DTSTAMP:20260423T173030
CREATED:20260406T040753Z
LAST-MODIFIED:20260406T040753Z
UID:9536-1782590400-1782599400@www.jerroldb.com
SUMMARY:June 27 - Private Show
DESCRIPTION:
URL:https://www.jerroldb.com/event/june-27-private-show/
CATEGORIES:Upcoming Shows
END:VEVENT
END:VCALENDAR