BEGIN:VCALENDAR
VERSION:2.0
PRODID:-//Comedian JerroldB - ECPv6.15.20//NONSGML v1.0//EN
CALSCALE:GREGORIAN
METHOD:PUBLISH
X-WR-CALNAME:Comedian JerroldB
X-ORIGINAL-URL:https://www.jerroldb.com
X-WR-CALDESC:Events for Comedian JerroldB
REFRESH-INTERVAL;VALUE=DURATION:PT1H
X-Robots-Tag:noindex
X-PUBLISHED-TTL:PT1H
BEGIN:VTIMEZONE
TZID:America/New_York
BEGIN:DAYLIGHT
TZOFFSETFROM:-0500
TZOFFSETTO:-0400
TZNAME:EDT
DTSTART:20210314T070000
END:DAYLIGHT
BEGIN:STANDARD
TZOFFSETFROM:-0400
TZOFFSETTO:-0500
TZNAME:EST
DTSTART:20211107T060000
END:STANDARD
BEGIN:DAYLIGHT
TZOFFSETFROM:-0500
TZOFFSETTO:-0400
TZNAME:EDT
DTSTART:20220313T070000
END:DAYLIGHT
BEGIN:STANDARD
TZOFFSETFROM:-0400
TZOFFSETTO:-0500
TZNAME:EST
DTSTART:20221106T060000
END:STANDARD
BEGIN:DAYLIGHT
TZOFFSETFROM:-0500
TZOFFSETTO:-0400
TZNAME:EDT
DTSTART:20230312T070000
END:DAYLIGHT
BEGIN:STANDARD
TZOFFSETFROM:-0400
TZOFFSETTO:-0500
TZNAME:EST
DTSTART:20231105T060000
END:STANDARD
BEGIN:DAYLIGHT
TZOFFSETFROM:-0500
TZOFFSETTO:-0400
TZNAME:EDT
DTSTART:20240310T070000
END:DAYLIGHT
BEGIN:STANDARD
TZOFFSETFROM:-0400
TZOFFSETTO:-0500
TZNAME:EST
DTSTART:20241103T060000
END:STANDARD
END:VTIMEZONE
BEGIN:VEVENT
DTSTART;TZID=America/New_York:20230325T200000
DTEND;TZID=America/New_York:20230325T223000
DTSTAMP:20260424T121319
CREATED:20240228T015344Z
LAST-MODIFIED:20240228T015344Z
UID:8197-1679774400-1679783400@www.jerroldb.com
SUMMARY:Private Event
DESCRIPTION:
URL:https://www.jerroldb.com/event/private-event-3/
CATEGORIES:Upcoming Shows
END:VEVENT
BEGIN:VEVENT
DTSTART;TZID=America/New_York:20230318T210000
DTEND;TZID=America/New_York:20230318T230000
DTSTAMP:20260424T121319
CREATED:20240228T015332Z
LAST-MODIFIED:20240228T015332Z
UID:8194-1679173200-1679180400@www.jerroldb.com
SUMMARY:Headlining Pamela’s On The Hudson!
DESCRIPTION:
URL:https://www.jerroldb.com/event/headlining-pamelas-on-the-hudson/
CATEGORIES:Upcoming Shows
END:VEVENT
BEGIN:VEVENT
DTSTART;TZID=America/New_York:20230316T200000
DTEND;TZID=America/New_York:20230316T220000
DTSTAMP:20260424T121319
CREATED:20240228T015333Z
LAST-MODIFIED:20240228T015333Z
UID:8195-1678996800-1679004000@www.jerroldb.com
SUMMARY:Comedy at Paint With A Twist!
DESCRIPTION:This show in kinda private but you can sign up to paint and rock out with me!Click the link to sign up!\nhttps://www.paintingwithatwist.com/studio/montville/event/3302819/
URL:https://www.jerroldb.com/event/comedy-at-paint-with-a-twist-2/
CATEGORIES:Upcoming Shows
END:VEVENT
BEGIN:VEVENT
DTSTART;TZID=America/New_York:20230303T200000
DTEND;TZID=America/New_York:20230303T223000
DTSTAMP:20260424T121319
CREATED:20240228T015344Z
LAST-MODIFIED:20240228T015344Z
UID:8198-1677873600-1677882600@www.jerroldb.com
SUMMARY:Comedy Show at Tiff’s In Morris Plains NJ!
DESCRIPTION:More Details Coming!
URL:https://www.jerroldb.com/event/comedy-show-at-tiffs-in-morris-plains-nj/
CATEGORIES:Upcoming Shows
END:VEVENT
BEGIN:VEVENT
DTSTART;TZID=America/New_York:20230223T200000
DTEND;TZID=America/New_York:20230223T230000
DTSTAMP:20260424T121319
CREATED:20240228T015414Z
LAST-MODIFIED:20240228T015414Z
UID:8213-1677182400-1677193200@www.jerroldb.com
SUMMARY:Headlining The Proving Grounds!
DESCRIPTION:
URL:https://www.jerroldb.com/event/headlining-the-proving-grounds/
CATEGORIES:Upcoming Shows
END:VEVENT
BEGIN:VEVENT
DTSTART;TZID=America/New_York:20230214T200000
DTEND;TZID=America/New_York:20230214T223000
DTSTAMP:20260424T121319
CREATED:20240228T015345Z
LAST-MODIFIED:20240228T015345Z
UID:8200-1676404800-1676413800@www.jerroldb.com
SUMMARY:Valentine’s Day Comedy!
DESCRIPTION:We’re gonna be wildin’ out this VDay!! Myself\, Matt Bridgestone\, Gina DiMaggio and Polina Zismanova will be putting in that work! Come Thruuuuuuuuu!
URL:https://www.jerroldb.com/event/valentines-day-comedy/
CATEGORIES:Upcoming Shows
END:VEVENT
BEGIN:VEVENT
DTSTART;TZID=America/New_York:20230214T190000
DTEND;TZID=America/New_York:20230214T203000
DTSTAMP:20260424T121319
CREATED:20240228T015346Z
LAST-MODIFIED:20240228T015346Z
UID:8202-1676401200-1676406600@www.jerroldb.com
SUMMARY:One Night Stand – Valentine’s Day Comedy House Party!
DESCRIPTION:
URL:https://www.jerroldb.com/event/one-night-stand-valentines-day-comedy-house-party/
CATEGORIES:Upcoming Shows
END:VEVENT
BEGIN:VEVENT
DTSTART;TZID=America/New_York:20230213T203000
DTEND;TZID=America/New_York:20230213T213000
DTSTAMP:20260424T121319
CREATED:20240228T015359Z
LAST-MODIFIED:20240228T015359Z
UID:8205-1676320200-1676323800@www.jerroldb.com
SUMMARY:Painting with a Twist and Comedy Night!
DESCRIPTION:It’s gonna be a fun night of painting\, drinking and jokes!!
URL:https://www.jerroldb.com/event/painting-with-a-twist-and-comedy-night/
CATEGORIES:Upcoming Shows
END:VEVENT
BEGIN:VEVENT
DTSTART;TZID=America/New_York:20230211T200000
DTEND;TZID=America/New_York:20230211T223000
DTSTAMP:20260424T121319
CREATED:20240228T015417Z
LAST-MODIFIED:20240228T015417Z
UID:8219-1676145600-1676154600@www.jerroldb.com
SUMMARY:Headlining!
DESCRIPTION:I’ll be performing with the magnificent Gemini!
URL:https://www.jerroldb.com/event/headlining/
CATEGORIES:Upcoming Shows
END:VEVENT
BEGIN:VEVENT
DTSTART;TZID=America/New_York:20230202T180000
DTEND;TZID=America/New_York:20230202T203000
DTSTAMP:20260424T121319
CREATED:20240228T015400Z
LAST-MODIFIED:20240228T015400Z
UID:8207-1675360800-1675369800@www.jerroldb.com
SUMMARY:Come See Me At Broadway Comedy Club!
DESCRIPTION:I’ll be sharing the stage with Victoria Arnstein and Christy Miller! Show starts at 6pm. COME THRUUUUUU!!\n \n 
URL:https://www.jerroldb.com/event/come-see-me-at-broadway-comedy-club/
CATEGORIES:Upcoming Shows
END:VEVENT
BEGIN:VEVENT
DTSTART;TZID=America/New_York:20230128T200000
DTEND;TZID=America/New_York:20230128T230000
DTSTAMP:20260424T121319
CREATED:20240228T015415Z
LAST-MODIFIED:20240228T015415Z
UID:8215-1674936000-1674946800@www.jerroldb.com
SUMMARY:Comedy at the East Hampton Fire Dept
DESCRIPTION:I’m not quite sure if this event is private or not but it’s gonna be a banger! If you’re in the area and interested in coming – HIT ME UP!! If anything\, you’ll come as my guest!
URL:https://www.jerroldb.com/event/comedy-at-the-east-hampton-fire-dept/
CATEGORIES:Upcoming Shows
END:VEVENT
BEGIN:VEVENT
DTSTART;TZID=America/New_York:20230115T200000
DTEND;TZID=America/New_York:20230115T220000
DTSTAMP:20260424T121319
CREATED:20240228T015401Z
LAST-MODIFIED:20240228T015401Z
UID:8209-1673812800-1673820000@www.jerroldb.com
SUMMARY:Hosting the Whiskey Hideaway!
DESCRIPTION:Come out Sunday January 15th to the Staten Island\, NY at the Whiskey Hideaway and see Jersey’s finest rock the mic! I’ll be hosting followed by Petey Rancel\, Ray Vasquez and headliner Buda The Comedian!!
URL:https://www.jerroldb.com/event/hosting-the-whiskey-hideaway/
CATEGORIES:Upcoming Shows
END:VEVENT
BEGIN:VEVENT
DTSTART;TZID=America/New_York:20230107T200000
DTEND;TZID=America/New_York:20230107T223000
DTSTAMP:20260424T121319
CREATED:20240228T015402Z
LAST-MODIFIED:20240228T015402Z
UID:8211-1673121600-1673130600@www.jerroldb.com
SUMMARY:Back at Catch A Rising Star Again!
DESCRIPTION:Yep\, I’ll be headlining Catch A Rising Star in Princeton\, NJ on January 7th! There are more details coming but just like the last couple of shows\, I expect the place to be packed!! Get your tix at: https://catcharisingstar.com. Look for me and I’ll see you there!
URL:https://www.jerroldb.com/event/back-at-catch-a-rising-star-again/
CATEGORIES:Upcoming Shows
END:VEVENT
BEGIN:VEVENT
DTSTART;TZID=America/New_York:20221231T193000
DTEND;TZID=America/New_York:20221231T193000
DTSTAMP:20260424T121319
CREATED:20240228T015416Z
LAST-MODIFIED:20240228T015416Z
UID:8217-1672515000-1672515000@www.jerroldb.com
SUMMARY:Headlining Catch A Rising Star NYE!!
DESCRIPTION:
URL:https://www.jerroldb.com/event/headlining-catch-a-rising-star-nye/
CATEGORIES:Upcoming Shows
END:VEVENT
BEGIN:VEVENT
DTSTART;TZID=America/New_York:20221222T200000
DTEND;TZID=America/New_York:20221222T220000
DTSTAMP:20260424T121319
CREATED:20240228T015431Z
LAST-MODIFIED:20240228T015431Z
UID:8225-1671739200-1671746400@www.jerroldb.com
SUMMARY:Christmas Comedy Show!!
DESCRIPTION:Come out and support Paws Healing Heroes “Batman.” It’ll be Batman’s last public appearance as a service dog!Gonna be a great night!
URL:https://www.jerroldb.com/event/christmas-comedy-show/
CATEGORIES:Upcoming Shows
END:VEVENT
BEGIN:VEVENT
DTSTART;TZID=America/New_York:20221217T200000
DTEND;TZID=America/New_York:20221217T220000
DTSTAMP:20260424T121319
CREATED:20240228T015432Z
LAST-MODIFIED:20240228T015432Z
UID:8227-1671307200-1671314400@www.jerroldb.com
SUMMARY:Headlining in Poughkeepsie!
DESCRIPTION:This spot always has a good crowd\, good food and of course\, the best talent! I’ll be rocking the mic with some other comedy friends in Poughkeepsie at Mahoney’s Irish Pub.Click HERE and get your tix!
URL:https://www.jerroldb.com/event/headlining-in-poughkeepsie/
CATEGORIES:Upcoming Shows
END:VEVENT
BEGIN:VEVENT
DTSTART;TZID=America/New_York:20221209T200000
DTEND;TZID=America/New_York:20221209T220000
DTSTAMP:20260424T121319
CREATED:20240228T015419Z
LAST-MODIFIED:20240228T015419Z
UID:8221-1670616000-1670623200@www.jerroldb.com
SUMMARY:Headlining Catch A Rising Star!
DESCRIPTION:
URL:https://www.jerroldb.com/event/headlining-catch-a-rising-star-2/
CATEGORIES:Upcoming Shows
END:VEVENT
BEGIN:VEVENT
DTSTART;TZID=America/New_York:20221208T200000
DTEND;TZID=America/New_York:20221208T220000
DTSTAMP:20260424T121319
CREATED:20240228T015516Z
LAST-MODIFIED:20240228T015516Z
UID:8250-1670529600-1670536800@www.jerroldb.com
SUMMARY:I’m Rocking Out In South Valley BBQ!
DESCRIPTION:I used to love this spot and haven’t performed there in years! Can’t wait to rock the mic – COME THRUUUUU!
URL:https://www.jerroldb.com/event/im-rocking-out-in-south-valley-bbq/
CATEGORIES:Upcoming Shows
END:VEVENT
BEGIN:VEVENT
DTSTART;TZID=America/New_York:20221207T210000
DTEND;TZID=America/New_York:20221207T230000
DTSTAMP:20260424T121319
CREATED:20240228T015429Z
LAST-MODIFIED:20240228T015429Z
UID:8222-1670446800-1670454000@www.jerroldb.com
SUMMARY:Headlining Dublin Yard!
DESCRIPTION:I’ll be headlining the Dublin Yard in Secaucus NJ on December 7th!!
URL:https://www.jerroldb.com/event/headlining-dublin-yard/
CATEGORIES:Upcoming Shows
END:VEVENT
BEGIN:VEVENT
DTSTART;TZID=America/New_York:20221117T193000
DTEND;TZID=America/New_York:20221117T220000
DTSTAMP:20260424T121319
CREATED:20240228T015433Z
LAST-MODIFIED:20240228T015433Z
UID:8229-1668713400-1668722400@www.jerroldb.com
SUMMARY:Comedy Show!
DESCRIPTION:Come out Thursday November 17th at Mia’s – 249 Main St. Oceanport\, NJ 07757 at 7:30 and catch me and my homies put it down!!
URL:https://www.jerroldb.com/event/comedy-show-3/
CATEGORIES:Upcoming Shows
END:VEVENT
BEGIN:VEVENT
DTSTART;TZID=America/New_York:20221116T194500
DTEND;TZID=America/New_York:20221116T214500
DTSTAMP:20260424T121319
CREATED:20240228T015430Z
LAST-MODIFIED:20240228T015430Z
UID:8224-1668627900-1668635100@www.jerroldb.com
SUMMARY:Comedy Show!
DESCRIPTION:
URL:https://www.jerroldb.com/event/comedy-show-2/
CATEGORIES:Upcoming Shows
END:VEVENT
BEGIN:VEVENT
DTSTART;TZID=America/New_York:20221112T200000
DTEND;TZID=America/New_York:20221112T220000
DTSTAMP:20260424T121319
CREATED:20240228T015514Z
LAST-MODIFIED:20240228T015514Z
UID:8246-1668283200-1668290400@www.jerroldb.com
SUMMARY:Headlining!
DESCRIPTION:I’m Back At The Laughter Lounge!
URL:https://www.jerroldb.com/event/headlining-2/
CATEGORIES:Upcoming Shows
END:VEVENT
BEGIN:VEVENT
DTSTART;TZID=America/New_York:20221104T200000
DTEND;TZID=America/New_York:20221104T220000
DTSTAMP:20260424T121319
CREATED:20240228T015515Z
LAST-MODIFIED:20240228T015515Z
UID:8248-1667592000-1667599200@www.jerroldb.com
SUMMARY:Headlining at the Bloomfield Firehouse!
DESCRIPTION:DETAILS COMING SOON!
URL:https://www.jerroldb.com/event/headlining-at-the-bloomfield-firehouse/
CATEGORIES:Upcoming Shows
END:VEVENT
BEGIN:VEVENT
DTSTART;TZID=America/New_York:20221028T200000
DTEND;TZID=America/New_York:20221028T220000
DTSTAMP:20260424T121319
CREATED:20240228T015459Z
LAST-MODIFIED:20240228T015459Z
UID:8240-1666987200-1666994400@www.jerroldb.com
SUMMARY:Rocking the American Legion in Metuchen!
DESCRIPTION:More Details Coming!
URL:https://www.jerroldb.com/event/rocking-the-american-legion-in-metuchen/
END:VEVENT
BEGIN:VEVENT
DTSTART;TZID=America/New_York:20221021T210000
DTEND;TZID=America/New_York:20221021T223000
DTSTAMP:20260424T121319
CREATED:20240228T015445Z
LAST-MODIFIED:20240228T015445Z
UID:8233-1666386000-1666391400@www.jerroldb.com
SUMMARY:Headlining the Dysfunctional Comedy Show!
DESCRIPTION:I’ll be at the Dojo of Comedy East aka Tiffs Comedy Club in Morris Plains\, NJ Oct 21st!!Feature: Dave Hoj\nFeature: No Filter Paul\nGuest: Nick Bailey\nHosted By: Shay Ferrell
URL:https://www.jerroldb.com/event/headlining-the-dysfunctional-comedy-show/
CATEGORIES:Upcoming Shows
END:VEVENT
BEGIN:VEVENT
DTSTART;TZID=America/New_York:20221020T200000
DTEND;TZID=America/New_York:20221020T213000
DTSTAMP:20260424T121319
CREATED:20240228T015444Z
LAST-MODIFIED:20240228T015444Z
UID:8231-1666296000-1666301400@www.jerroldb.com
SUMMARY:Private Show
DESCRIPTION:I wish U could be there but it’s PRIVATE!!🤣🤣🤣
URL:https://www.jerroldb.com/event/private-show-2/
CATEGORIES:Upcoming Shows
END:VEVENT
BEGIN:VEVENT
DTSTART;TZID=America/New_York:20221015T200000
DTEND;TZID=America/New_York:20221015T220000
DTSTAMP:20260424T121319
CREATED:20240228T015446Z
LAST-MODIFIED:20240228T015446Z
UID:8235-1665864000-1665871200@www.jerroldb.com
SUMMARY:Straight Up Lit Laughs!
DESCRIPTION:
URL:https://www.jerroldb.com/event/straight-up-lit-laughs/
CATEGORIES:Upcoming Shows
END:VEVENT
BEGIN:VEVENT
DTSTART;TZID=America/New_York:20221001T200000
DTEND;TZID=America/New_York:20221001T220000
DTSTAMP:20260424T121319
CREATED:20240228T015501Z
LAST-MODIFIED:20240228T015501Z
UID:8244-1664654400-1664661600@www.jerroldb.com
SUMMARY:Comedy Night At The Laughter Lounge!!
DESCRIPTION:Come Thruuuuuu!
URL:https://www.jerroldb.com/event/comedy-night-at-the-laughter-lounge/
CATEGORIES:Upcoming Shows
END:VEVENT
BEGIN:VEVENT
DTSTART;TZID=America/New_York:20220928T200000
DTEND;TZID=America/New_York:20220928T223000
DTSTAMP:20260424T121319
CREATED:20240228T015447Z
LAST-MODIFIED:20240228T015447Z
UID:8237-1664395200-1664404200@www.jerroldb.com
SUMMARY:Headlining Stax!
DESCRIPTION:Come on out to Stax in Marlboro\, NJ!! I’m gonna rip that place a new…well\, u know!
URL:https://www.jerroldb.com/event/headlining-stax/
END:VEVENT
BEGIN:VEVENT
DTSTART;TZID=America/New_York:20220923T200000
DTEND;TZID=America/New_York:20220923T220000
DTSTAMP:20260424T121319
CREATED:20240228T015459Z
LAST-MODIFIED:20240228T015459Z
UID:8239-1663963200-1663970400@www.jerroldb.com
SUMMARY:Private Show
DESCRIPTION:
URL:https://www.jerroldb.com/event/private-show-4/
END:VEVENT
END:VCALENDAR