BEGIN:VCALENDAR
VERSION:2.0
PRODID:-//Comedian JerroldB - ECPv6.15.20//NONSGML v1.0//EN
CALSCALE:GREGORIAN
METHOD:PUBLISH
X-WR-CALNAME:Comedian JerroldB
X-ORIGINAL-URL:https://www.jerroldb.com
X-WR-CALDESC:Events for Comedian JerroldB
REFRESH-INTERVAL;VALUE=DURATION:PT1H
X-Robots-Tag:noindex
X-PUBLISHED-TTL:PT1H
BEGIN:VTIMEZONE
TZID:America/New_York
BEGIN:DAYLIGHT
TZOFFSETFROM:-0500
TZOFFSETTO:-0400
TZNAME:EDT
DTSTART:20220313T070000
END:DAYLIGHT
BEGIN:STANDARD
TZOFFSETFROM:-0400
TZOFFSETTO:-0500
TZNAME:EST
DTSTART:20221106T060000
END:STANDARD
BEGIN:DAYLIGHT
TZOFFSETFROM:-0500
TZOFFSETTO:-0400
TZNAME:EDT
DTSTART:20230312T070000
END:DAYLIGHT
BEGIN:STANDARD
TZOFFSETFROM:-0400
TZOFFSETTO:-0500
TZNAME:EST
DTSTART:20231105T060000
END:STANDARD
BEGIN:DAYLIGHT
TZOFFSETFROM:-0500
TZOFFSETTO:-0400
TZNAME:EDT
DTSTART:20240310T070000
END:DAYLIGHT
BEGIN:STANDARD
TZOFFSETFROM:-0400
TZOFFSETTO:-0500
TZNAME:EST
DTSTART:20241103T060000
END:STANDARD
END:VTIMEZONE
BEGIN:VEVENT
DTSTART;TZID=America/New_York:20230715T200000
DTEND;TZID=America/New_York:20230715T223000
DTSTAMP:20260424T113623
CREATED:20240228T015245Z
LAST-MODIFIED:20240228T015245Z
UID:8166-1689451200-1689460200@www.jerroldb.com
SUMMARY:It’s COMEDY NIGHT in Nazareth\, PA!
DESCRIPTION:We’ll be rocking out at the Bushkill Twp. Volunteer Fire Co.!155 Firehouse Lane\nNazareth PA
URL:https://www.jerroldb.com/event/its-comedy-night-in-nazareth-pa/
CATEGORIES:Upcoming Shows
END:VEVENT
BEGIN:VEVENT
DTSTART;TZID=America/New_York:20230714T200000
DTEND;TZID=America/New_York:20230714T223000
DTSTAMP:20260424T113623
CREATED:20240228T015244Z
LAST-MODIFIED:20240228T015244Z
UID:8165-1689364800-1689373800@www.jerroldb.com
SUMMARY:Comedy at Seashoreline Campers Resort!
DESCRIPTION:Come on out to Seashoreline Campers Resort!720 Kings Hwy\nOcean View\, NJ
URL:https://www.jerroldb.com/event/comedy-at-seashoreline-campers-resort/
CATEGORIES:Upcoming Shows
END:VEVENT
BEGIN:VEVENT
DTSTART;TZID=America/New_York:20230707T200000
DTEND;TZID=America/New_York:20230707T223000
DTSTAMP:20260424T113623
CREATED:20240228T015331Z
LAST-MODIFIED:20240228T015331Z
UID:8193-1688760000-1688769000@www.jerroldb.com
SUMMARY:Headlining the Pine Island Tap House!
DESCRIPTION:Come out and join us! More details coming!
URL:https://www.jerroldb.com/event/headlining-the-pine-island-tap-house/
CATEGORIES:Upcoming Shows
END:VEVENT
BEGIN:VEVENT
DTSTART;TZID=America/New_York:20230630T193000
DTEND;TZID=America/New_York:20230630T220000
DTSTAMP:20260424T113623
CREATED:20240228T015314Z
LAST-MODIFIED:20240228T015314Z
UID:8182-1688153400-1688162400@www.jerroldb.com
SUMMARY:JerroldB & Friends at Catch A Rising Star!
DESCRIPTION:
URL:https://www.jerroldb.com/event/jerroldb-friends-at-catch-a-rising-star-2/
CATEGORIES:Upcoming Shows
END:VEVENT
BEGIN:VEVENT
DTSTART;TZID=America/New_York:20230610T200000
DTEND;TZID=America/New_York:20230610T220000
DTSTAMP:20260424T113623
CREATED:20240228T015249Z
LAST-MODIFIED:20240228T015249Z
UID:8171-1686427200-1686434400@www.jerroldb.com
SUMMARY:Headlining PJ’s Playhouse
DESCRIPTION:
URL:https://www.jerroldb.com/event/headlining-pjs-playhouse/
CATEGORIES:Upcoming Shows
END:VEVENT
BEGIN:VEVENT
DTSTART;TZID=America/New_York:20230609T200000
DTEND;TZID=America/New_York:20230609T220000
DTSTAMP:20260424T113623
CREATED:20240228T015248Z
LAST-MODIFIED:20240228T015248Z
UID:8170-1686340800-1686348000@www.jerroldb.com
SUMMARY:Back Headlining Toasted!!
DESCRIPTION:
URL:https://www.jerroldb.com/event/back-headlining-toasted/
CATEGORIES:Upcoming Shows
END:VEVENT
BEGIN:VEVENT
DTSTART;TZID=America/New_York:20230527T193000
DTEND;TZID=America/New_York:20230527T223000
DTSTAMP:20260424T113623
CREATED:20240228T015300Z
LAST-MODIFIED:20240228T015300Z
UID:8175-1685215800-1685226600@www.jerroldb.com
SUMMARY:JerroldB & Friends at Catch A Rising Star!
DESCRIPTION:Limited Tickets  Available For This Absolutely Hilarious  Show\, May 26th 8pm\, 7:30 Seating At Catch A Rising Star – Princeton With Jerrold Benford\, Vishnu Vaka\, Rishi Mathur and Dean Blizzard!!! Call Now To Reserve Your Spot!! Hope To See You Soon!!! 781-568-1471 or catcharisingstar.com. \nAnd on Saturday night we will be doing it one more time! May 27th 8pm\, 7:30 Seating at Catch A Rising Star – Princeton NJ with myself\, Jerrold Benford\, Brian Steadman-comedian\, Nadine MJ Jasmin\, Brian Parks and Dean Blizzard!!! Come thru and rock out with us!! Call Now to Reserve your Spot!! I’ll see you one or both nights!!! 781-568-1471 or catcharisingstar.com.
URL:https://www.jerroldb.com/event/jerroldb-friends-at-catch-a-rising-star/
CATEGORIES:Upcoming Shows
END:VEVENT
BEGIN:VEVENT
DTSTART;TZID=America/New_York:20230526T193000
DTEND;TZID=America/New_York:20230526T223000
DTSTAMP:20260424T113623
CREATED:20240228T015315Z
LAST-MODIFIED:20240228T015315Z
UID:8184-1685129400-1685140200@www.jerroldb.com
SUMMARY:JerroldB & Friends at Catch A Rising Star!
DESCRIPTION:Limited Tickets  Available For This Absolutely Hilarious  Show\, May 26th 8pm\, 7:30 Seating At Catch A Rising Star – Princeton With Jerrold Benford\, Vishnu Vaka\, Rishi Mathur and Dean Blizzard!!! Call Now To Reserve Your Spot!! Hope To See You Soon!!! 781-568-1471 or catcharisingstar.com. \nAnd on Saturday night we will be doing it one more time! May 27th 8pm\, 7:30 Seating at Catch A Rising Star – Princeton NJ with myself\, Jerrold Benford\, Brian Steadman-comedian\, Nadine MJ Jasmin\, Brian Parks and Dean Blizzard!!! Come thru and rock out with us!! Call Now to Reserve your Spot!! I’ll see you one or both nights!!! 781-568-1471 or catcharisingstar.com.
URL:https://www.jerroldb.com/event/jerroldb-friends-at-catch-a-rising-star-3/
CATEGORIES:Upcoming Shows
END:VEVENT
BEGIN:VEVENT
DTSTART;TZID=America/New_York:20230525T194500
DTEND;TZID=America/New_York:20230525T220000
DTSTAMP:20260424T113623
CREATED:20240228T015303Z
LAST-MODIFIED:20240228T015303Z
UID:8179-1685043900-1685052000@www.jerroldb.com
SUMMARY:Rocking The Waterfront!!
DESCRIPTION:Get ur tix and come out!! I’ll be wildin’ out with John Conte\, John Kurschner\, Gregory K and yours truly will be closing the show! And it’s by the beach!? What more could u want??
URL:https://www.jerroldb.com/event/rocking-the-waterfront/
CATEGORIES:Upcoming Shows
END:VEVENT
BEGIN:VEVENT
DTSTART;TZID=America/New_York:20230524T203000
DTEND;TZID=America/New_York:20230524T213000
DTSTAMP:20260424T113623
CREATED:20240228T015259Z
LAST-MODIFIED:20240228T015259Z
UID:8173-1684960200-1684963800@www.jerroldb.com
SUMMARY:Paint With A Twist & JerroldB!
DESCRIPTION:
URL:https://www.jerroldb.com/event/paint-with-a-twist-jerroldb/
CATEGORIES:Upcoming Shows
END:VEVENT
BEGIN:VEVENT
DTSTART;TZID=America/New_York:20230520T200000
DTEND;TZID=America/New_York:20230520T220000
DTSTAMP:20260424T113623
CREATED:20240228T015317Z
LAST-MODIFIED:20240228T015317Z
UID:8186-1684612800-1684620000@www.jerroldb.com
SUMMARY:Rocking The Mic
DESCRIPTION:
URL:https://www.jerroldb.com/event/rocking-the-mic/
CATEGORIES:Upcoming Shows
END:VEVENT
BEGIN:VEVENT
DTSTART;TZID=America/New_York:20230519T200000
DTEND;TZID=America/New_York:20230519T220000
DTSTAMP:20260424T113623
CREATED:20240228T015301Z
LAST-MODIFIED:20240228T015301Z
UID:8177-1684526400-1684533600@www.jerroldb.com
SUMMARY:Headlining Tavern On The George!
DESCRIPTION:It’s gon’ be fire!! Come Thruuuuuuu! 
URL:https://www.jerroldb.com/event/headlining-tavern-on-the-george/
CATEGORIES:Upcoming Shows
END:VEVENT
BEGIN:VEVENT
DTSTART;TZID=America/New_York:20230504T193000
DTEND;TZID=America/New_York:20230504T220000
DTSTAMP:20260424T113623
CREATED:20240228T015304Z
LAST-MODIFIED:20240228T015304Z
UID:8181-1683228600-1683237600@www.jerroldb.com
SUMMARY:Comedy In North Cackalacka aka NC!
DESCRIPTION:I’ll be ripping the mic with my feature Gina DiMaggio! We’ll be performing in the Church Entertainment Lounge! Come Thruuuuuu!
URL:https://www.jerroldb.com/event/comedy-in-north-cackalacka-aka-nc/
CATEGORIES:Upcoming Shows
END:VEVENT
BEGIN:VEVENT
DTSTART;TZID=America/New_York:20230429T180000
DTEND;TZID=America/New_York:20230429T200000
DTSTAMP:20260424T113623
CREATED:20240228T015359Z
LAST-MODIFIED:20240228T015359Z
UID:8204-1682791200-1682798400@www.jerroldb.com
SUMMARY:Private Event
DESCRIPTION:I wish you guys could be there but you can’t!! See ya at the next one!
URL:https://www.jerroldb.com/event/private-event-4/
CATEGORIES:Upcoming Shows
END:VEVENT
BEGIN:VEVENT
DTSTART;TZID=America/New_York:20230428T200000
DTEND;TZID=America/New_York:20230428T220000
DTSTAMP:20260424T113623
CREATED:20240228T015329Z
LAST-MODIFIED:20240228T015329Z
UID:8191-1682712000-1682719200@www.jerroldb.com
SUMMARY:Tickled Pink Comedy Show!
DESCRIPTION:I’ll be rocking some jokes at the DuCret School of the Arts for the Alpha Kappa Alpha Sorority\, Incorporated!
URL:https://www.jerroldb.com/event/tickled-pink-comedy-show/
CATEGORIES:Upcoming Shows
END:VEVENT
BEGIN:VEVENT
DTSTART;TZID=America/New_York:20230426T203000
DTEND;TZID=America/New_York:20230426T213000
DTSTAMP:20260424T113623
CREATED:20240228T015320Z
LAST-MODIFIED:20240228T015320Z
UID:8190-1682541000-1682544600@www.jerroldb.com
SUMMARY:Comedy at Paint With A Twist!
DESCRIPTION:This show in kinda private but you can sign up to paint and rock out with me!Click the link to sign up!\nhttps://www.paintingwithatwist.com/studio/montville/event/3349950/
URL:https://www.jerroldb.com/event/comedy-at-paint-with-a-twist/
CATEGORIES:Upcoming Shows
END:VEVENT
BEGIN:VEVENT
DTSTART;TZID=America/New_York:20230422T200000
DTEND;TZID=America/New_York:20230422T223000
DTSTAMP:20260424T113623
CREATED:20240228T015444Z
LAST-MODIFIED:20240228T015444Z
UID:8232-1682193600-1682202600@www.jerroldb.com
SUMMARY:Private Show!
DESCRIPTION:This Event is PRIVATE! LOL
URL:https://www.jerroldb.com/event/private-show-3/
END:VEVENT
BEGIN:VEVENT
DTSTART;TZID=America/New_York:20230413T190000
DTEND;TZID=America/New_York:20230415T213000
DTSTAMP:20260424T113623
CREATED:20240228T015345Z
LAST-MODIFIED:20240228T015345Z
UID:8199-1681412400-1681594200@www.jerroldb.com
SUMMARY:I’ll Be Rocking Out In Vegas!
DESCRIPTION:April 13th\,I’ll be performing at Noypitz Town Center – 7:30pm\n660 S Las Vegas Blvd\, Las Vegas\, NV\n14th and 15th I’ll be performing at the Notoriety Theater – 7pm\nNeonopolis\, 450 E Fremont St 380 3rd floor\, Las Vegas\, NV
URL:https://www.jerroldb.com/event/ill-be-rocking-out-in-vegas/
CATEGORIES:Upcoming Shows
END:VEVENT
BEGIN:VEVENT
DTSTART;TZID=America/New_York:20230401T200000
DTEND;TZID=America/New_York:20230401T220000
DTSTAMP:20260424T113623
CREATED:20240228T015318Z
LAST-MODIFIED:20240228T015318Z
UID:8188-1680379200-1680386400@www.jerroldb.com
SUMMARY:April Fools Comedy Night!
DESCRIPTION:
URL:https://www.jerroldb.com/event/april-fools-comedy-night/
CATEGORIES:Upcoming Shows
END:VEVENT
BEGIN:VEVENT
DTSTART;TZID=America/New_York:20230330T200000
DTEND;TZID=America/New_York:20230330T223000
DTSTAMP:20260424T113623
CREATED:20240228T015334Z
LAST-MODIFIED:20240228T015334Z
UID:8196-1680206400-1680215400@www.jerroldb.com
SUMMARY:Comedy at the Parlor!
DESCRIPTION:Once again I’m at the Parlor\, but this time as a one-and-done comic. I’m no longer a booker at this spot\, lol. Come out and watch me rock out!
URL:https://www.jerroldb.com/event/comedy-at-the-parlor/
CATEGORIES:Upcoming Shows
END:VEVENT
BEGIN:VEVENT
DTSTART;TZID=America/New_York:20230325T200000
DTEND;TZID=America/New_York:20230325T223000
DTSTAMP:20260424T113623
CREATED:20240228T015344Z
LAST-MODIFIED:20240228T015344Z
UID:8197-1679774400-1679783400@www.jerroldb.com
SUMMARY:Private Event
DESCRIPTION:
URL:https://www.jerroldb.com/event/private-event-3/
CATEGORIES:Upcoming Shows
END:VEVENT
BEGIN:VEVENT
DTSTART;TZID=America/New_York:20230318T210000
DTEND;TZID=America/New_York:20230318T230000
DTSTAMP:20260424T113623
CREATED:20240228T015332Z
LAST-MODIFIED:20240228T015332Z
UID:8194-1679173200-1679180400@www.jerroldb.com
SUMMARY:Headlining Pamela’s On The Hudson!
DESCRIPTION:
URL:https://www.jerroldb.com/event/headlining-pamelas-on-the-hudson/
CATEGORIES:Upcoming Shows
END:VEVENT
BEGIN:VEVENT
DTSTART;TZID=America/New_York:20230316T200000
DTEND;TZID=America/New_York:20230316T220000
DTSTAMP:20260424T113623
CREATED:20240228T015333Z
LAST-MODIFIED:20240228T015333Z
UID:8195-1678996800-1679004000@www.jerroldb.com
SUMMARY:Comedy at Paint With A Twist!
DESCRIPTION:This show in kinda private but you can sign up to paint and rock out with me!Click the link to sign up!\nhttps://www.paintingwithatwist.com/studio/montville/event/3302819/
URL:https://www.jerroldb.com/event/comedy-at-paint-with-a-twist-2/
CATEGORIES:Upcoming Shows
END:VEVENT
BEGIN:VEVENT
DTSTART;TZID=America/New_York:20230303T200000
DTEND;TZID=America/New_York:20230303T223000
DTSTAMP:20260424T113623
CREATED:20240228T015344Z
LAST-MODIFIED:20240228T015344Z
UID:8198-1677873600-1677882600@www.jerroldb.com
SUMMARY:Comedy Show at Tiff’s In Morris Plains NJ!
DESCRIPTION:More Details Coming!
URL:https://www.jerroldb.com/event/comedy-show-at-tiffs-in-morris-plains-nj/
CATEGORIES:Upcoming Shows
END:VEVENT
BEGIN:VEVENT
DTSTART;TZID=America/New_York:20230223T200000
DTEND;TZID=America/New_York:20230223T230000
DTSTAMP:20260424T113623
CREATED:20240228T015414Z
LAST-MODIFIED:20240228T015414Z
UID:8213-1677182400-1677193200@www.jerroldb.com
SUMMARY:Headlining The Proving Grounds!
DESCRIPTION:
URL:https://www.jerroldb.com/event/headlining-the-proving-grounds/
CATEGORIES:Upcoming Shows
END:VEVENT
BEGIN:VEVENT
DTSTART;TZID=America/New_York:20230214T200000
DTEND;TZID=America/New_York:20230214T223000
DTSTAMP:20260424T113623
CREATED:20240228T015345Z
LAST-MODIFIED:20240228T015345Z
UID:8200-1676404800-1676413800@www.jerroldb.com
SUMMARY:Valentine’s Day Comedy!
DESCRIPTION:We’re gonna be wildin’ out this VDay!! Myself\, Matt Bridgestone\, Gina DiMaggio and Polina Zismanova will be putting in that work! Come Thruuuuuuuuu!
URL:https://www.jerroldb.com/event/valentines-day-comedy/
CATEGORIES:Upcoming Shows
END:VEVENT
BEGIN:VEVENT
DTSTART;TZID=America/New_York:20230214T190000
DTEND;TZID=America/New_York:20230214T203000
DTSTAMP:20260424T113623
CREATED:20240228T015346Z
LAST-MODIFIED:20240228T015346Z
UID:8202-1676401200-1676406600@www.jerroldb.com
SUMMARY:One Night Stand – Valentine’s Day Comedy House Party!
DESCRIPTION:
URL:https://www.jerroldb.com/event/one-night-stand-valentines-day-comedy-house-party/
CATEGORIES:Upcoming Shows
END:VEVENT
BEGIN:VEVENT
DTSTART;TZID=America/New_York:20230213T203000
DTEND;TZID=America/New_York:20230213T213000
DTSTAMP:20260424T113623
CREATED:20240228T015359Z
LAST-MODIFIED:20240228T015359Z
UID:8205-1676320200-1676323800@www.jerroldb.com
SUMMARY:Painting with a Twist and Comedy Night!
DESCRIPTION:It’s gonna be a fun night of painting\, drinking and jokes!!
URL:https://www.jerroldb.com/event/painting-with-a-twist-and-comedy-night/
CATEGORIES:Upcoming Shows
END:VEVENT
BEGIN:VEVENT
DTSTART;TZID=America/New_York:20230211T200000
DTEND;TZID=America/New_York:20230211T223000
DTSTAMP:20260424T113623
CREATED:20240228T015417Z
LAST-MODIFIED:20240228T015417Z
UID:8219-1676145600-1676154600@www.jerroldb.com
SUMMARY:Headlining!
DESCRIPTION:I’ll be performing with the magnificent Gemini!
URL:https://www.jerroldb.com/event/headlining/
CATEGORIES:Upcoming Shows
END:VEVENT
BEGIN:VEVENT
DTSTART;TZID=America/New_York:20230202T180000
DTEND;TZID=America/New_York:20230202T203000
DTSTAMP:20260424T113623
CREATED:20240228T015400Z
LAST-MODIFIED:20240228T015400Z
UID:8207-1675360800-1675369800@www.jerroldb.com
SUMMARY:Come See Me At Broadway Comedy Club!
DESCRIPTION:I’ll be sharing the stage with Victoria Arnstein and Christy Miller! Show starts at 6pm. COME THRUUUUUU!!\n \n 
URL:https://www.jerroldb.com/event/come-see-me-at-broadway-comedy-club/
CATEGORIES:Upcoming Shows
END:VEVENT
END:VCALENDAR