BEGIN:VCALENDAR
VERSION:2.0
PRODID:-//Comedian JerroldB - ECPv6.15.20//NONSGML v1.0//EN
CALSCALE:GREGORIAN
METHOD:PUBLISH
X-ORIGINAL-URL:https://www.jerroldb.com
X-WR-CALDESC:Events for Comedian JerroldB
REFRESH-INTERVAL;VALUE=DURATION:PT1H
X-Robots-Tag:noindex
X-PUBLISHED-TTL:PT1H
BEGIN:VTIMEZONE
TZID:America/New_York
BEGIN:DAYLIGHT
TZOFFSETFROM:-0500
TZOFFSETTO:-0400
TZNAME:EDT
DTSTART:20240310T070000
END:DAYLIGHT
BEGIN:STANDARD
TZOFFSETFROM:-0400
TZOFFSETTO:-0500
TZNAME:EST
DTSTART:20241103T060000
END:STANDARD
BEGIN:DAYLIGHT
TZOFFSETFROM:-0500
TZOFFSETTO:-0400
TZNAME:EDT
DTSTART:20250309T070000
END:DAYLIGHT
BEGIN:STANDARD
TZOFFSETFROM:-0400
TZOFFSETTO:-0500
TZNAME:EST
DTSTART:20251102T060000
END:STANDARD
BEGIN:DAYLIGHT
TZOFFSETFROM:-0500
TZOFFSETTO:-0400
TZNAME:EDT
DTSTART:20260308T070000
END:DAYLIGHT
BEGIN:STANDARD
TZOFFSETFROM:-0400
TZOFFSETTO:-0500
TZNAME:EST
DTSTART:20261101T060000
END:STANDARD
BEGIN:DAYLIGHT
TZOFFSETFROM:-0500
TZOFFSETTO:-0400
TZNAME:EDT
DTSTART:20270314T070000
END:DAYLIGHT
BEGIN:STANDARD
TZOFFSETFROM:-0400
TZOFFSETTO:-0500
TZNAME:EST
DTSTART:20271107T060000
END:STANDARD
END:VTIMEZONE
BEGIN:VEVENT
DTSTART;TZID=America/New_York:20251231T200000
DTEND;TZID=America/New_York:20260101T010000
DTSTAMP:20260423T151115
CREATED:20251030T225448Z
LAST-MODIFIED:20251124T214406Z
UID:9335-1767211200-1767229200@www.jerroldb.com
SUMMARY:Dec 31 - Princeton\, NJ
DESCRIPTION:🔥 NEW YEAR’S EVE COMEDY BASH WITH JERROLDB! 🔥 \n \nReady to laugh your way into 2026? Then join us at Catch a Rising Star in Princeton\, NJ for an unforgettable New Year’s Eve show! 🌟 \nI’ll be headlining the night at the iconic Hyatt Regency Princeton\, located at 102 Carnegie Center. We’re talking 8 PM showtime\, a night full of hilarious stand-up\, and the perfect countdown party that’s gonna have you rolling into the new year with a smile on your face and maybe a side stitch from laughing too hard. 🎤😆 \n🎟️ Tickets are just $25 and trust me\, this is the spot to be if you want to kiss 2025 goodbye with some serious comedy fireworks. And hey\, don’t just take my word for it — you know I’ll be bringing that Funny For No Reason flavor you love. \nHit up catcharisingstar.com for details\, grab your tickets\, and let’s kick off the new year with a night of laughs and good times. See you there! \n#JerroldBenford #NewYearsEveComedy #CatchARisingStar #PrincetonNJ #LaughInto2026
URL:https://www.jerroldb.com/event/dec-31-princeton-nj/
LOCATION:Catch A Rising Star\, 102 Carnegie Center Dr\, Princeton\, NJ\, 07446\, United States
CATEGORIES:Upcoming Shows
END:VEVENT
END:VCALENDAR