BEGIN:VCALENDAR
VERSION:2.0
PRODID:-//Comedian JerroldB - ECPv6.15.20//NONSGML v1.0//EN
CALSCALE:GREGORIAN
METHOD:PUBLISH
X-WR-CALNAME:Comedian JerroldB
X-ORIGINAL-URL:https://www.jerroldb.com
X-WR-CALDESC:Events for Comedian JerroldB
REFRESH-INTERVAL;VALUE=DURATION:PT1H
X-Robots-Tag:noindex
X-PUBLISHED-TTL:PT1H
BEGIN:VTIMEZONE
TZID:America/New_York
BEGIN:DAYLIGHT
TZOFFSETFROM:-0500
TZOFFSETTO:-0400
TZNAME:EDT
DTSTART:20240310T070000
END:DAYLIGHT
BEGIN:STANDARD
TZOFFSETFROM:-0400
TZOFFSETTO:-0500
TZNAME:EST
DTSTART:20241103T060000
END:STANDARD
BEGIN:DAYLIGHT
TZOFFSETFROM:-0500
TZOFFSETTO:-0400
TZNAME:EDT
DTSTART:20250309T070000
END:DAYLIGHT
BEGIN:STANDARD
TZOFFSETFROM:-0400
TZOFFSETTO:-0500
TZNAME:EST
DTSTART:20251102T060000
END:STANDARD
BEGIN:DAYLIGHT
TZOFFSETFROM:-0500
TZOFFSETTO:-0400
TZNAME:EDT
DTSTART:20260308T070000
END:DAYLIGHT
BEGIN:STANDARD
TZOFFSETFROM:-0400
TZOFFSETTO:-0500
TZNAME:EST
DTSTART:20261101T060000
END:STANDARD
END:VTIMEZONE
BEGIN:VEVENT
DTSTART;TZID=America/New_York:20250605T200000
DTEND;TZID=America/New_York:20250605T220000
DTSTAMP:20260423T235831
CREATED:20250408T000959Z
LAST-MODIFIED:20250427T172653Z
UID:9173-1749153600-1749160800@www.jerroldb.com
SUMMARY:June 5 - Atlantic Highlands\, NJ
DESCRIPTION:🎤 Get Ready\, Atlantic Highlands — Comedy is About to Explode at Gaslight Pub! 🎤\nDate: June 5Location: Gaslight Pub\, 33 First Ave.\, Atlantic Highlands\, New JerseyShowtime: 8:00 PMTickets: $20 – $30 🎟️ (Worth every penny for the laughs you’re about to get!) \n🔥 Buckle up for a WILD night of comedy\, chaos\, and crazy-good times! 🔥 \nHere’s what’s coming your way: \n\n\n🎙️ Headliner: The outrageously funny Jerrold Benford — bringing the heat and the laughs all night long! \n\n\n🍻 Awesome drinks\, great vibes\, and a crowd that’s ready to GET LOUD! \n\n\n🎉 A night so funny\, your face will hurt from smiling — guaranteed! \n\n\nGaslight Pub is turning into the ultimate laugh factory on June 5. Whether you’re from Atlantic Highlands or just cruising through\, this is the comedy event you don’t want to miss! 😎 \n👉 Secure your tickets now and lock in a front-row seat to the madness! \nBring your friends\, bring your energy\, and let’s make it a night to remember! 🎊 \n#AtlanticHighlandsComedy #GaslightPub #GeraldBenfordLive #NJComedyShow
URL:https://www.jerroldb.com/event/june-5-atlantic-highlands-nj/
LOCATION:Gaslight Pub\, 33 First Ave\, Atlantic Highlands\, NJ\, 07716\, United States
CATEGORIES:Upcoming Shows
END:VEVENT
END:VCALENDAR