BEGIN:VCALENDAR
VERSION:2.0
PRODID:-//Comedian JerroldB - ECPv6.15.20//NONSGML v1.0//EN
CALSCALE:GREGORIAN
METHOD:PUBLISH
X-ORIGINAL-URL:https://www.jerroldb.com
X-WR-CALDESC:Events for Comedian JerroldB
REFRESH-INTERVAL;VALUE=DURATION:PT1H
X-Robots-Tag:noindex
X-PUBLISHED-TTL:PT1H
BEGIN:VTIMEZONE
TZID:America/New_York
BEGIN:DAYLIGHT
TZOFFSETFROM:-0500
TZOFFSETTO:-0400
TZNAME:EDT
DTSTART:20240310T070000
END:DAYLIGHT
BEGIN:STANDARD
TZOFFSETFROM:-0400
TZOFFSETTO:-0500
TZNAME:EST
DTSTART:20241103T060000
END:STANDARD
BEGIN:DAYLIGHT
TZOFFSETFROM:-0500
TZOFFSETTO:-0400
TZNAME:EDT
DTSTART:20250309T070000
END:DAYLIGHT
BEGIN:STANDARD
TZOFFSETFROM:-0400
TZOFFSETTO:-0500
TZNAME:EST
DTSTART:20251102T060000
END:STANDARD
BEGIN:DAYLIGHT
TZOFFSETFROM:-0500
TZOFFSETTO:-0400
TZNAME:EDT
DTSTART:20260308T070000
END:DAYLIGHT
BEGIN:STANDARD
TZOFFSETFROM:-0400
TZOFFSETTO:-0500
TZNAME:EST
DTSTART:20261101T060000
END:STANDARD
END:VTIMEZONE
BEGIN:VEVENT
DTSTART;TZID=America/New_York:20250426T200000
DTEND;TZID=America/New_York:20250426T223000
DTSTAMP:20260424T021935
CREATED:20250417T201208Z
LAST-MODIFIED:20250417T201208Z
UID:9177-1745697600-1745706600@www.jerroldb.com
SUMMARY:April 26 - Rahway\, NJ
DESCRIPTION:🎤 BADA-BING! COMEDY AT LUCIANO’S RISTORANTE 🍝📍 1579 Main Street\, Rahway\, NJ📅 Friday\, April 26th🕗 Showtime: 8:00 PM | 🍽️ Dinner starts at 6:30 PM🎟️ Tickets: $25👉 Get Yours Now! \n\n🔥 Get ready for a night of pure 🔥 comedy and Italian vibes!I’m headlining BADA-BING! and I’m coming to ROCK that mic like it owes me money 💥 \nHosted by:🎙️ Roro Antonucci – The Jersey charm\, the mic maestro \nFeaturing:🤣 PJ Morin – Wild\, sharp\, and hilarious \nWhy you NEED to be there: \n\n\n✔️ Authentic Italian dinner before the show \n\n\n✔️ Non-stop laughs from start to finish \n\n\n✔️ Big laughs\, bold flavors\, and the best crowd in Jersey \n\n\n✔️ I’m bringing the 🔥… and I’m not coming to play \n\n\n\n🚨 This show WILL sell out. Don’t wait.Grab your tickets 👉 Eventbrite Link \nLet’s make it a night to remember. Luciano’s… we’re comin’ for ya! 💣
URL:https://www.jerroldb.com/event/april-26-rahway-nj/
LOCATION:Luciano’s Ristorante\, 1579 Main St.\, Rahway\, NJ\, United States
CATEGORIES:Upcoming Shows
END:VEVENT
END:VCALENDAR