BEGIN:VCALENDAR
VERSION:2.0
PRODID:-//Comedian JerroldB - ECPv6.15.20//NONSGML v1.0//EN
CALSCALE:GREGORIAN
METHOD:PUBLISH
X-WR-CALNAME:Comedian JerroldB
X-ORIGINAL-URL:https://www.jerroldb.com
X-WR-CALDESC:Events for Comedian JerroldB
REFRESH-INTERVAL;VALUE=DURATION:PT1H
X-Robots-Tag:noindex
X-PUBLISHED-TTL:PT1H
BEGIN:VTIMEZONE
TZID:America/New_York
BEGIN:DAYLIGHT
TZOFFSETFROM:-0500
TZOFFSETTO:-0400
TZNAME:EDT
DTSTART:20250309T070000
END:DAYLIGHT
BEGIN:STANDARD
TZOFFSETFROM:-0400
TZOFFSETTO:-0500
TZNAME:EST
DTSTART:20251102T060000
END:STANDARD
BEGIN:DAYLIGHT
TZOFFSETFROM:-0500
TZOFFSETTO:-0400
TZNAME:EDT
DTSTART:20260308T070000
END:DAYLIGHT
BEGIN:STANDARD
TZOFFSETFROM:-0400
TZOFFSETTO:-0500
TZNAME:EST
DTSTART:20261101T060000
END:STANDARD
BEGIN:DAYLIGHT
TZOFFSETFROM:-0500
TZOFFSETTO:-0400
TZNAME:EDT
DTSTART:20270314T070000
END:DAYLIGHT
BEGIN:STANDARD
TZOFFSETFROM:-0400
TZOFFSETTO:-0500
TZNAME:EST
DTSTART:20271107T060000
END:STANDARD
END:VTIMEZONE
BEGIN:VEVENT
DTSTART;TZID=America/New_York:20260205T200000
DTEND;TZID=America/New_York:20260205T220000
DTSTAMP:20260423T121357
CREATED:20251221T221600Z
LAST-MODIFIED:20260130T154408Z
UID:9404-1770321600-1770328800@www.jerroldb.com
SUMMARY:Feb 5 - The Proving Ground - Highlands\, NJ
DESCRIPTION:  \n🚨 HIGHLANDS\, NJ — THIS IS A HEATER 🚨 \nTHE PROVING GROUND\nComedy is taking over the shoreline and it’s about to get LOUD. \n🎤 Jerrold B. LIVE\n📅 Wednesday\, February 5\n⏰ 8:00 PM\n📍 Proving Ground 🎟️  Tickets & info 👉 https://www.provinggroundnj.com\nHosted by the always dangerous Gina DiMaggio\nFeaturing the sharp and fearless Andrew Rich \nThis is the kind of room comedians LOVE — packed crowd\, big laughs\, and zero mercy.\nA full-on comedy night where the drinks are flowing\, the energy is high\, and the jokes hit harder than you expect on a Wednesday. \n \n \n \n \nIf you’re in Highlands…\nIf you’re anywhere near Highlands…\nThis is the move. \n🎟️ Tickets & info 👉 https://www.provinggroundnj.com \nPull up early.\nSit close.\nLaugh loud. \nFunny For No Damn Reason 😤🔥
URL:https://www.jerroldb.com/event/feb-5-highlands-nj/
LOCATION:CT
CATEGORIES:Upcoming Shows
END:VEVENT
BEGIN:VEVENT
DTSTART;TZID=America/New_York:20260212T200000
DTEND;TZID=America/New_York:20260212T223000
DTSTAMP:20260423T121357
CREATED:20251124T220706Z
LAST-MODIFIED:20251221T231029Z
UID:9355-1770926400-1770935400@www.jerroldb.com
SUMMARY:Feb 12 - Montclair\, NJ
DESCRIPTION:💘 Comedy Night @ Just Jakes\n📍 Montclair\, NJ\nJust Jakes \n🚨 MONTCLAIR — DATE NIGHT JUST GOT LOUDER. 🚨 \n📅 Thursday\, February 12\, 2026🚪 Doors: 7PM | Show: 7:30PM \nI’m rocking Comedy Night @ Just Jakes with a DOPE lineup: \n🎤 Jerrold Benford🎤 Emily Paige🎤 Andrea Glazer🎤 Naked Eddie🎤 Robert Field🎤 Terry-Ann Zander \n🎟️ Tickets:💻 $20 online | 🚪 $25 at door👉 https://justjakescomedy.eventbrite.com \n📍 30 Park St\, Montclair\, NJ \nLaughs. Drinks. Bad decisions afterward.Let’s go.
URL:https://www.jerroldb.com/event/feb-12-montclair-nj/
LOCATION:Just Jakes\, 30 Park St\, Montclair\, NJ\, United States
CATEGORIES:Upcoming Shows
END:VEVENT
BEGIN:VEVENT
DTSTART;TZID=America/New_York:20260213T200000
DTEND;TZID=America/New_York:20260213T230000
DTSTAMP:20260423T121357
CREATED:20251230T163227Z
LAST-MODIFIED:20260210T010927Z
UID:9431-1771012800-1771023600@www.jerroldb.com
SUMMARY:Feb 13 - Berlin\, NJ
DESCRIPTION:🚨 VALENTINE’S WEEKEND ALERT! 🚨\nFebruary 13th & 14th\, I’m bringing the laughs to Robert’s Bar and Grill in Berlin\, NJ! Miss the chocolates\, but don’t miss this show! \n🎤 Jerrold B LIVE\n📍 Robert’s Bar & Grill\, Berlin\, NJ\n📅 Feb 13 & 14\n⏰ Show starts at 8 PM \nCLICK PIC FOR TIX!👇🏾\n \nWhether you got a date or you’re single and ready to laugh\, this is where the love (and jokes) is at! Tickets are limited—grab yours\, bring your Valentine (or your situationship)\, and come through! \n#JerroldB #ValentinesLaughs #RobertsBarAndGrill #BerlinNJ #FunnyForNoDamnReason #LimitedTickets
URL:https://www.jerroldb.com/event/feb-13-berlin-nj/
LOCATION:Roberts Bar & Grill\, 281 Cross Keys Rd\, Berlin\, NJ\, 08009\, United States
CATEGORIES:Upcoming Shows
END:VEVENT
BEGIN:VEVENT
DTSTART;TZID=America/New_York:20260214T200000
DTEND;TZID=America/New_York:20260214T230000
DTSTAMP:20260423T121357
CREATED:20251230T163312Z
LAST-MODIFIED:20260210T010904Z
UID:9433-1771099200-1771110000@www.jerroldb.com
SUMMARY:Feb 14 - Berlin\, NJ
DESCRIPTION:  \n🚨 VALENTINE’S WEEKEND ALERT! 🚨\nFebruary 13th & 14th\, I’m bringing the laughs to Robert’s Bar and Grill in Berlin\, NJ! Miss the chocolates\, but don’t miss this show! \n🎤 Jerrold B LIVE\n📍 Robert’s Bar & Grill\, Berlin\, NJ\n📅 Feb 13 & 14\n⏰ Show starts at 8 PM \n  \nWhether you got a date or you’re single and ready to laugh\, this is where the love (and jokes) is at! Tickets are limited—grab yours\, bring your Valentine (or your situationship)\, and come through! \n#JerroldB #ValentinesLaughs #RobertsBarAndGrill #BerlinNJ #FunnyForNoDamnReason #LimitedTickets
URL:https://www.jerroldb.com/event/feb-14-berlin-nj/
LOCATION:Roberts Bar & Grill\, 281 Cross Keys Rd\, Berlin\, NJ\, 08009\, United States
CATEGORIES:Upcoming Shows
END:VEVENT
BEGIN:VEVENT
DTSTART;TZID=America/New_York:20260220T200000
DTEND;TZID=America/New_York:20260220T223000
DTSTAMP:20260423T121357
CREATED:20251221T221705Z
LAST-MODIFIED:20251221T231629Z
UID:9406-1771617600-1771626600@www.jerroldb.com
SUMMARY:Feb 20 - Elizabeth\, NJ
DESCRIPTION:🚨 ELIZABETH\, NJ — COMING SOON 🚨 \nYeah… I’m bringing this comedy STRAIGHT to Elizabeth and I’m telling you now so you can’t say you didn’t know. \n🎤 Jerrold Benford LIVE📅 Friday\, February 20📍 Elizabeth👀 Details coming soon… \nNo venue name yet.No lineup announced.No ticket link dropped. \nBut trust me —when this one goes live\, it’s gonna MOVE. \nPut it on your calendar.Tell your people.And keep your eyes open… because February 20 is about to get Funny For No Damn Reason. \nMore info loading… ⏳🔥 \n#ComingSoon #ElizabethNJ #JerroldBenford #FunnyForNoDamnReason #February20 #StandUpComedy
URL:https://www.jerroldb.com/event/feb-20-elizabeth-nj/
LOCATION:CT
CATEGORIES:Upcoming Shows
END:VEVENT
END:VCALENDAR