BEGIN:VCALENDAR
VERSION:2.0
PRODID:-//Comedian JerroldB - ECPv6.15.20//NONSGML v1.0//EN
CALSCALE:GREGORIAN
METHOD:PUBLISH
X-WR-CALNAME:Comedian JerroldB
X-ORIGINAL-URL:https://www.jerroldb.com
X-WR-CALDESC:Events for Comedian JerroldB
REFRESH-INTERVAL;VALUE=DURATION:PT1H
X-Robots-Tag:noindex
X-PUBLISHED-TTL:PT1H
BEGIN:VTIMEZONE
TZID:America/New_York
BEGIN:DAYLIGHT
TZOFFSETFROM:-0500
TZOFFSETTO:-0400
TZNAME:EDT
DTSTART:20240310T070000
END:DAYLIGHT
BEGIN:STANDARD
TZOFFSETFROM:-0400
TZOFFSETTO:-0500
TZNAME:EST
DTSTART:20241103T060000
END:STANDARD
BEGIN:DAYLIGHT
TZOFFSETFROM:-0500
TZOFFSETTO:-0400
TZNAME:EDT
DTSTART:20250309T070000
END:DAYLIGHT
BEGIN:STANDARD
TZOFFSETFROM:-0400
TZOFFSETTO:-0500
TZNAME:EST
DTSTART:20251102T060000
END:STANDARD
BEGIN:DAYLIGHT
TZOFFSETFROM:-0500
TZOFFSETTO:-0400
TZNAME:EDT
DTSTART:20260308T070000
END:DAYLIGHT
BEGIN:STANDARD
TZOFFSETFROM:-0400
TZOFFSETTO:-0500
TZNAME:EST
DTSTART:20261101T060000
END:STANDARD
BEGIN:DAYLIGHT
TZOFFSETFROM:-0500
TZOFFSETTO:-0400
TZNAME:EDT
DTSTART:20270314T070000
END:DAYLIGHT
BEGIN:STANDARD
TZOFFSETFROM:-0400
TZOFFSETTO:-0500
TZNAME:EST
DTSTART:20271107T060000
END:STANDARD
END:VTIMEZONE
BEGIN:VEVENT
DTSTART;TZID=America/New_York:20251231T200000
DTEND;TZID=America/New_York:20260101T010000
DTSTAMP:20260423T133830
CREATED:20251030T225448Z
LAST-MODIFIED:20251124T214406Z
UID:9335-1767211200-1767229200@www.jerroldb.com
SUMMARY:Dec 31 - Princeton\, NJ
DESCRIPTION:🔥 NEW YEAR’S EVE COMEDY BASH WITH JERROLDB! 🔥 \n \nReady to laugh your way into 2026? Then join us at Catch a Rising Star in Princeton\, NJ for an unforgettable New Year’s Eve show! 🌟 \nI’ll be headlining the night at the iconic Hyatt Regency Princeton\, located at 102 Carnegie Center. We’re talking 8 PM showtime\, a night full of hilarious stand-up\, and the perfect countdown party that’s gonna have you rolling into the new year with a smile on your face and maybe a side stitch from laughing too hard. 🎤😆 \n🎟️ Tickets are just $25 and trust me\, this is the spot to be if you want to kiss 2025 goodbye with some serious comedy fireworks. And hey\, don’t just take my word for it — you know I’ll be bringing that Funny For No Reason flavor you love. \nHit up catcharisingstar.com for details\, grab your tickets\, and let’s kick off the new year with a night of laughs and good times. See you there! \n#JerroldBenford #NewYearsEveComedy #CatchARisingStar #PrincetonNJ #LaughInto2026
URL:https://www.jerroldb.com/event/dec-31-princeton-nj/
LOCATION:Catch A Rising Star\, 102 Carnegie Center Dr\, Princeton\, NJ\, 07446\, United States
CATEGORIES:Upcoming Shows
END:VEVENT
BEGIN:VEVENT
DTSTART;TZID=America/New_York:20260102T200000
DTEND;TZID=America/New_York:20260102T223000
DTSTAMP:20260423T133830
CREATED:20251124T215545Z
LAST-MODIFIED:20251124T215545Z
UID:9348-1767384000-1767393000@www.jerroldb.com
SUMMARY:Jan 2 - Middleton\, NY
DESCRIPTION:AYOOOOO MIDDDLETOWN!!! 🎤🔥 \n \nWe bringing in the FIRST FRIDAY OF 2026 the ONLY way I know how… LOUD\, FUNNY & UNREASONABLY ENTERTAINING 😤😂 \n✨ COMEDY AT CLEMSON BROS! ✨Starring yours truly — JerroldB aka Mr. Funny For No Damn Reason — and I’m not pulling up solo… nahhhh\, I brought the Avengers of funny with me 💥 \n🎙 Andre Mitchell🎙 Nick Bailey🎙 Grace Lobo🎙 Manny Ramos \nThis lineup is straight pressure. Laughs on laughs on laughs.New year\, new jokes\, same reckless joy 😎 \n📍 Clemson Brothers Brewing22 Cottage St\, Middletown\, NY📅 January 2nd 2026 – First Friday of the New Year🎟 $20 tickets on Eventbrite \nStart your 2026 the RIGHT way.Not the gym. Not a vision board.COME LAUGH YOUL SELF BACK INTO HAPPINESS 😂🍻 \nScan the QR. Grab your seat. Bring ya crew.And remember… \nFunny For No Damn Reason is a lifestyle. \n#JerroldB #ComedyAtClemsonBros #NewYearNewLaughs #MiddletownComedy #StandUpEnergy #FunnyForNoDamnReason 🎤🔥
URL:https://www.jerroldb.com/event/jan-2-middleton-ny/
LOCATION:Clemson Bros Brewing\, 22 Cottage St\, Middletown\, NY\, United States
CATEGORIES:Upcoming Shows
END:VEVENT
BEGIN:VEVENT
DTSTART;TZID=America/New_York:20260104T140000
DTEND;TZID=America/New_York:20260104T170000
DTSTAMP:20260423T133830
CREATED:20251221T221457Z
LAST-MODIFIED:20251221T225619Z
UID:9402-1767535200-1767546000@www.jerroldb.com
SUMMARY:Jan 4 - The Nextshift Screening!!
DESCRIPTION:🎬 BACK BY POPULAR DEMAND — JANUARY 4 🎬 \nAlright… let me be honest with y’all 😅\nI MISSED the first premiere of the movie The NextShift —\nwhich means I missed my own acting debut 🤦🏾‍♂️ \nBUT NOT THIS TIME.\nI’ll be in the building for the SECOND PREMIERE\, and you should be too. \n📽️ The NextShift\nWritten & Directed by Adio Ash\nA gritty\, coming-of-age action drama about choices\, pressure\, loyalty\, and what happens when life forces you to grow up FAST. \n🎭 Starring Jordyn Owens\, Matthew Taylor Zuniga\, Chloe Mcfarlane\, and Jimmy Gary Jr. —\nstrong performances\, real emotion\, and a story that sticks with you. \n📍 Kent Theater\n1170 Coney Island Ave\, Brooklyn\, NY 11230\n📅 Saturday\, January 4 \n🎟️ TICKETS ARE LIMITED — don’t wait.\n👉 Grab yours here:\nhttps://posh.vip/e/back-by-popular-demand-the-nextshift-screening \nI missed the first one…\nI’m NOT missing this one — and you shouldn’t either.\nPull up\, support indie film\, and come see how my acting debut finally hits the big screen 🎥🔥 \n#TheNextShift #AdioAsh #JerroldB #ActingDebut #KentTheater #BrooklynNY #IndieFilm #LimitedTickets #ComeThru 🎟️
URL:https://www.jerroldb.com/event/jan-4-the-nextshift-movie-premiere/
LOCATION:CT
CATEGORIES:Upcoming Shows
END:VEVENT
BEGIN:VEVENT
DTSTART;TZID=America/New_York:20260116T200000
DTEND;TZID=America/New_York:20260116T223000
DTSTAMP:20260423T133830
CREATED:20251207T042021Z
LAST-MODIFIED:20251221T231256Z
UID:9373-1768593600-1768602600@www.jerroldb.com
SUMMARY:Jan 16 - Tropicana\, AC
DESCRIPTION:🎬🎤 Night Before GRIMES — Comedy Show\n📍 Tropicana Casino\n🚨 ATLANTIC CITY — THIS IS A BIG ONE. 🚨 \n📅 Friday\, January 16\, 2026🚪 Doors open at 7PM🎤 Show starts at 8PM \nThe NIGHT BEFORE GRIMES movie premiere\, we’re setting the tone with straight-up laughs at the Trop. \n🔥 Featuring:🎤 Paul Dell’Angelo (GRIMES\, Netflix\, Tubi)🎤 Matt Bridgestone🎤 Jerrold Benford \nThis is your chance to see cast members LIVE on stage before they hit the big screen.Comedy\, casino vibes\, and Atlantic City energy all in one night. \n🎟️ TICKETS HERE (Eventbrite):👉 https://www.eventbrite.com/e/ac-comedy-tropicana-116grimes-actor-paul-dellangelo-with-jerrold-benford-tickets-1977152632748?aff=oddtdtcreator \nDon’t wait — this one’s gonna move.Pull up early\, grab a drink\, and laugh reckless. \n#GrimesMovie #NightBeforeGrimes #JerroldBenford #PaulDellAngelo #TropicanaCasino #AtlanticCityComedy #LiveComedy 🎤🎰 \n 
URL:https://www.jerroldb.com/event/jan-16-tropicana-ac/
LOCATION:CT
CATEGORIES:Upcoming Shows
END:VEVENT
BEGIN:VEVENT
DTSTART;TZID=America/New_York:20260120T200000
DTEND;TZID=America/New_York:20260120T223000
DTSTAMP:20260423T133831
CREATED:20251124T215740Z
LAST-MODIFIED:20260117T210159Z
UID:9351-1768939200-1768948200@www.jerroldb.com
SUMMARY:Jan 20 - Union\, NJ
DESCRIPTION:🚨 UNION\, NJ — COMING SOON 🚨 \nYeah… I’m pulling up to Signaturz and if you know anything about this spot\, you already know this night is about to get real loud. \n🎤 JerroldB LIVE📅 Tuesday\, January 20📍 Union\, NJ \nJust know this —when comedy hits Signaturz\, it’s not quiet\, it’s not polite\, and it’s definitely Funny For No Damn Reason. \nMark the date.Text your people.And stay tuned… 👀🔥 \n#ComingSoon #UnionNJ #Signaturz #JerroldBenford #FunnyForNoDamnReason #January20 #StandUpComedy
URL:https://www.jerroldb.com/event/jan-20-union-nj/
LOCATION:CT
CATEGORIES:Upcoming Shows
END:VEVENT
BEGIN:VEVENT
DTSTART;TZID=America/New_York:20260128T200000
DTEND;TZID=America/New_York:20260128T220000
DTSTAMP:20260423T133831
CREATED:20251221T221312Z
LAST-MODIFIED:20260124T082217Z
UID:9400-1769630400-1769637600@www.jerroldb.com
SUMMARY:Jan 28 - NYC\, NY
DESCRIPTION:🎤 Bro Bro’s “The School Show”\n📍 The Broadway Comedy Club\nBroadway Comedy Club \n🚨 NYC — THIS LINEUP IS STUPID 🔥 🚨 \n📅 January 28\, 2026⏰ 7PM \nI’m hitting the stage with a HEAVY lineup for Bro Bro’s The School Show featuring: \n🎭 Pete Lee🎭 Dante Nero🎭 Eva Evans🎭 Ryan Reiss🎭 Vishnu Vaka🎤 And me — Jerrold Benford \nThis is straight-up comedy class in session — no homework\, just laughs. \n🎟️ Tickets:👉 https://www.broadwaycomedyclub.com \n 
URL:https://www.jerroldb.com/event/jan-28-nyc-ny/
LOCATION:CT
CATEGORIES:Upcoming Shows
END:VEVENT
BEGIN:VEVENT
DTSTART;TZID=America/New_York:20260129T200000
DTEND;TZID=America/New_York:20260129T223000
DTSTAMP:20260423T133831
CREATED:20260108T144606Z
LAST-MODIFIED:20260113T175137Z
UID:9451-1769716800-1769725800@www.jerroldb.com
SUMMARY:Jan 29 - New Brunswick\, NJ
DESCRIPTION:https://www.flite.city/e/comedy-night?t=you \n 
URL:https://www.jerroldb.com/event/jan-29-new-brunswick-nj/
LOCATION:CT
CATEGORIES:Upcoming Shows
END:VEVENT
BEGIN:VEVENT
DTSTART;TZID=America/New_York:20260130T200000
DTEND;TZID=America/New_York:20260130T223000
DTSTAMP:20260423T133831
CREATED:20251124T215839Z
LAST-MODIFIED:20251222T001244Z
UID:9353-1769803200-1769812200@www.jerroldb.com
SUMMARY:Jan 30 - Avalon\, NJ
DESCRIPTION:🎤 Jerrold Benford & Friends — Stand-Up Comedy Show\n📍 Avalon Golf Club | Cape May Court House\, NJ\nAvalon Golf Club \n🚨 CAPE MAY COUNTY — THIS ONE IS CLASSY AND IGNANT. 🚨 \nI’m pulling up with Jerrold Benford & Friends for a FULL comedy + dinner experience at Avalon Golf Club. \n🍽️ Land & Sea Buffet — Dinner at 6PM🎤 Showtime: 7PM💰 $64 ($82.32 w/ tax & gratuity) \nHosted by Scott Friedman\, this is one of those nights where you eat GOOD\, laugh HARD\, and leave talking reckless in the parking lot. \n📍 1510 Route 9 North\, Cape May Court House\, NJ🎟️ Tickets: (609) 465-8086 \nCome hungry. Leave happy.And yes… it’s still Funny For No Damn Reason.
URL:https://www.jerroldb.com/event/jan-30-avalon-nj/
LOCATION:CT
CATEGORIES:Upcoming Shows
END:VEVENT
END:VCALENDAR