BEGIN:VCALENDAR
VERSION:2.0
PRODID:-//Comedian JerroldB - ECPv6.15.20//NONSGML v1.0//EN
CALSCALE:GREGORIAN
METHOD:PUBLISH
X-ORIGINAL-URL:https://www.jerroldb.com
X-WR-CALDESC:Events for Comedian JerroldB
REFRESH-INTERVAL;VALUE=DURATION:PT1H
X-Robots-Tag:noindex
X-PUBLISHED-TTL:PT1H
BEGIN:VTIMEZONE
TZID:America/New_York
BEGIN:DAYLIGHT
TZOFFSETFROM:-0500
TZOFFSETTO:-0400
TZNAME:EDT
DTSTART:20240310T070000
END:DAYLIGHT
BEGIN:STANDARD
TZOFFSETFROM:-0400
TZOFFSETTO:-0500
TZNAME:EST
DTSTART:20241103T060000
END:STANDARD
BEGIN:DAYLIGHT
TZOFFSETFROM:-0500
TZOFFSETTO:-0400
TZNAME:EDT
DTSTART:20250309T070000
END:DAYLIGHT
BEGIN:STANDARD
TZOFFSETFROM:-0400
TZOFFSETTO:-0500
TZNAME:EST
DTSTART:20251102T060000
END:STANDARD
BEGIN:DAYLIGHT
TZOFFSETFROM:-0500
TZOFFSETTO:-0400
TZNAME:EDT
DTSTART:20260308T070000
END:DAYLIGHT
BEGIN:STANDARD
TZOFFSETFROM:-0400
TZOFFSETTO:-0500
TZNAME:EST
DTSTART:20261101T060000
END:STANDARD
END:VTIMEZONE
BEGIN:VEVENT
DTSTART;TZID=America/New_York:20250530T200000
DTEND;TZID=America/New_York:20250530T223000
DTSTAMP:20260423T235902
CREATED:20250407T233822Z
LAST-MODIFIED:20250427T163005Z
UID:9167-1748635200-1748644200@www.jerroldb.com
SUMMARY:May 30 - Brooklyn\, NY
DESCRIPTION:🎤 Captain Kirk’s Presents: Spice & Soul Comedy Show! 🎤\n \nDate: Friday\, May 30thLocation: 1000 Broadway\, Brooklyn\, NYTickets: $25 – Available at 👉 www.captainkirkscomedielounge.com \n🔥 Get ready for an unforgettable night of laughter\, flavor\, and pure comedy fire! 🔥 \nHere’s what’s going down: \n\n\n🎙️ Hosted by the always energetic Kenny Woo \n\n\n😂 Featuring the hilarious and fan-favorite Jerrold Benford \n\n\n🎯 Headlined by the electrifying Vishnu Vaka \n\n\n🍸 Drinks\, vibes\, and nonstop laughs all night long! \n\n\nWhether you’re a Brooklyn local or just visiting\, the Spice & Soul Comedy Show is the must-see event to kick off your summer! \nDon’t wait –🎟️ Secure your spot today: www.captainkirkscomedielounge.comBring your friends. Bring your soul. Bring your laugh. 😎
URL:https://www.jerroldb.com/event/may-31-hershey-pa/
LOCATION:Holiday Inn
CATEGORIES:Upcoming Shows
END:VEVENT
BEGIN:VEVENT
DTSTART;TZID=America/New_York:20250531T203000
DTEND;TZID=America/New_York:20250531T230000
DTSTAMP:20260423T235902
CREATED:20250417T201611Z
LAST-MODIFIED:20250427T163705Z
UID:9181-1748723400-1748732400@www.jerroldb.com
SUMMARY:May 31 - Grantville\, PA
DESCRIPTION:🎭 LAUGHING STOCK COMEDY NIGHT 🔥\n📅 Friday\, May 31st🕣 Showtime: 8:30 PM🌐 Presented by LaughingStockCC.com🎟️ Tix & details at: laughingstockcc.com \n\n🚨 DOUBLE TROUBLE. DOUBLE HEADLINERS.Jerrold Benford 💥 + Vishnu Vaka 🎤Two killers on one stage. It’s not just a show—it’s a straight-up comedy banger. \n\nWhy you NEED to be there: \n\n\n✔️ 🔥 Co-headlining showdown – two beasts in one night \n\n\n✔️ Real laughs. Real crowd. Real comedy energy \n\n\n✔️ 100% chance of tears… from LAUGHING \n\n\n✔️ That post-show “I needed that” feeling 😮‍💨 \n\n\n\nThis ain’t your average comedy night.This is LAUGHING STOCK.May 31st. 8:30 PM.Pull up or hear about it later. 😤 \n🎟️ Hit up 👉 laughingstockcc.com for tix before they’re gone.
URL:https://www.jerroldb.com/event/may-31-grantville-pa/
LOCATION:Holiday Inn
CATEGORIES:Upcoming Shows
END:VEVENT
END:VCALENDAR