BEGIN:VCALENDAR
VERSION:2.0
PRODID:-//Comedian JerroldB - ECPv6.15.20//NONSGML v1.0//EN
CALSCALE:GREGORIAN
METHOD:PUBLISH
X-ORIGINAL-URL:https://www.jerroldb.com
X-WR-CALDESC:Events for Comedian JerroldB
REFRESH-INTERVAL;VALUE=DURATION:PT1H
X-Robots-Tag:noindex
X-PUBLISHED-TTL:PT1H
BEGIN:VTIMEZONE
TZID:America/New_York
BEGIN:DAYLIGHT
TZOFFSETFROM:-0500
TZOFFSETTO:-0400
TZNAME:EDT
DTSTART:20250309T070000
END:DAYLIGHT
BEGIN:STANDARD
TZOFFSETFROM:-0400
TZOFFSETTO:-0500
TZNAME:EST
DTSTART:20251102T060000
END:STANDARD
BEGIN:DAYLIGHT
TZOFFSETFROM:-0500
TZOFFSETTO:-0400
TZNAME:EDT
DTSTART:20260308T070000
END:DAYLIGHT
BEGIN:STANDARD
TZOFFSETFROM:-0400
TZOFFSETTO:-0500
TZNAME:EST
DTSTART:20261101T060000
END:STANDARD
BEGIN:DAYLIGHT
TZOFFSETFROM:-0500
TZOFFSETTO:-0400
TZNAME:EDT
DTSTART:20270314T070000
END:DAYLIGHT
BEGIN:STANDARD
TZOFFSETFROM:-0400
TZOFFSETTO:-0500
TZNAME:EST
DTSTART:20271107T060000
END:STANDARD
END:VTIMEZONE
BEGIN:VEVENT
DTSTART;TZID=America/New_York:20260104T140000
DTEND;TZID=America/New_York:20260104T170000
DTSTAMP:20260423T143445
CREATED:20251221T221457Z
LAST-MODIFIED:20251221T225619Z
UID:9402-1767535200-1767546000@www.jerroldb.com
SUMMARY:Jan 4 - The Nextshift Screening!!
DESCRIPTION:🎬 BACK BY POPULAR DEMAND — JANUARY 4 🎬 \nAlright… let me be honest with y’all 😅\nI MISSED the first premiere of the movie The NextShift —\nwhich means I missed my own acting debut 🤦🏾‍♂️ \nBUT NOT THIS TIME.\nI’ll be in the building for the SECOND PREMIERE\, and you should be too. \n📽️ The NextShift\nWritten & Directed by Adio Ash\nA gritty\, coming-of-age action drama about choices\, pressure\, loyalty\, and what happens when life forces you to grow up FAST. \n🎭 Starring Jordyn Owens\, Matthew Taylor Zuniga\, Chloe Mcfarlane\, and Jimmy Gary Jr. —\nstrong performances\, real emotion\, and a story that sticks with you. \n📍 Kent Theater\n1170 Coney Island Ave\, Brooklyn\, NY 11230\n📅 Saturday\, January 4 \n🎟️ TICKETS ARE LIMITED — don’t wait.\n👉 Grab yours here:\nhttps://posh.vip/e/back-by-popular-demand-the-nextshift-screening \nI missed the first one…\nI’m NOT missing this one — and you shouldn’t either.\nPull up\, support indie film\, and come see how my acting debut finally hits the big screen 🎥🔥 \n#TheNextShift #AdioAsh #JerroldB #ActingDebut #KentTheater #BrooklynNY #IndieFilm #LimitedTickets #ComeThru 🎟️
URL:https://www.jerroldb.com/event/jan-4-the-nextshift-movie-premiere/
LOCATION:CT
CATEGORIES:Upcoming Shows
END:VEVENT
END:VCALENDAR