BEGIN:VCALENDAR
VERSION:2.0
PRODID:-//Comedian JerroldB - ECPv6.15.20//NONSGML v1.0//EN
CALSCALE:GREGORIAN
METHOD:PUBLISH
X-WR-CALNAME:Comedian JerroldB
X-ORIGINAL-URL:https://www.jerroldb.com
X-WR-CALDESC:Events for Comedian JerroldB
REFRESH-INTERVAL;VALUE=DURATION:PT1H
X-Robots-Tag:noindex
X-PUBLISHED-TTL:PT1H
BEGIN:VTIMEZONE
TZID:America/New_York
BEGIN:DAYLIGHT
TZOFFSETFROM:-0500
TZOFFSETTO:-0400
TZNAME:EDT
DTSTART:20240310T070000
END:DAYLIGHT
BEGIN:STANDARD
TZOFFSETFROM:-0400
TZOFFSETTO:-0500
TZNAME:EST
DTSTART:20241103T060000
END:STANDARD
BEGIN:DAYLIGHT
TZOFFSETFROM:-0500
TZOFFSETTO:-0400
TZNAME:EDT
DTSTART:20250309T070000
END:DAYLIGHT
BEGIN:STANDARD
TZOFFSETFROM:-0400
TZOFFSETTO:-0500
TZNAME:EST
DTSTART:20251102T060000
END:STANDARD
BEGIN:DAYLIGHT
TZOFFSETFROM:-0500
TZOFFSETTO:-0400
TZNAME:EDT
DTSTART:20260308T070000
END:DAYLIGHT
BEGIN:STANDARD
TZOFFSETFROM:-0400
TZOFFSETTO:-0500
TZNAME:EST
DTSTART:20261101T060000
END:STANDARD
END:VTIMEZONE
BEGIN:VEVENT
DTSTART;TZID=America/New_York:20251213T140000
DTEND;TZID=America/New_York:20251213T170000
DTSTAMP:20260423T155909
CREATED:20251202T204158Z
LAST-MODIFIED:20251207T042339Z
UID:9365-1765634400-1765645200@www.jerroldb.com
SUMMARY:Dec 13 - The NextShift Premier\,  Brooklyn\, NY
DESCRIPTION:🎬 BROOKLYN\, WE GOT ACTION! \nYour boy JerroldB is hittin’ the big screen\, and I need ALL my people in the building! \nOn Friday\, December 13th\, pull up to Brooklyn\, New York for the screening of the independent film I’m in — The Next Shift Film. Yeah\, man… I’m acting now. Hollywood better stop playin’ with me. \n🎥 Showtime: 2:30 PM\n💸 Tickets: $23\n📍 Brooklyn\, NY\n🔗 Tickets: https://thenextshiftfilm.com (replace with correct link)\n🔗 IG: https://instagram.com/thenextshiftfilm\n🔗 My Website: https://JerroldB.com \nThis film is powerful\, funny\, real\, and everything in between — and Susan’s turned them into Susan’s\, so you KNOW the drama is real. 😂 \nCome out\, support independent filmmaking\, support your boy\, and let’s show Brooklyn how we do this Funny-For-No-Damn-Reason-slash-Serious-Actor energy all in the same afternoon. \nGet your tickets NOW and I’ll see you December 13th! 🎬🔥
URL:https://www.jerroldb.com/event/dec-13-brooklyn-ny/
LOCATION:CT
CATEGORIES:Upcoming Shows
END:VEVENT
BEGIN:VEVENT
DTSTART;TZID=America/New_York:20251213T200000
DTEND;TZID=America/New_York:20251213T223000
DTSTAMP:20260423T155909
CREATED:20251124T215130Z
LAST-MODIFIED:20251124T215130Z
UID:9346-1765656000-1765665000@www.jerroldb.com
SUMMARY:Dec 13 - Princeton\, NJ
DESCRIPTION:OH WE TURNIN’ PRINCETON ALL THE WAY UP!!! 🎤🔥 \n \nCatch A Rising Star already KNOW what time it is —JerroldB is pulling up and bringing that “Funny For No Damn Reason” energy straight to the stage! \nDecember 12th & 13th we’re lighting up the Hyatt Regency Princeton with nonstop jokes\, real-life comedy\, and that signature JerroldB style that leaves people crying-laughing and questioning their abs the next morning 😤😂 \nAnd I’m not coming alone…I got my guy Jeff Paul in the building as special guest\, so you KNOW this lineup is certified pressure 💥 \nThis ain’t just a show…This is a whole COMEDY EXPERIENCE. \n🎟 Get your seats NOW before you hear about it from somebody who DID go:\n👉 catcharisingstar.com \nPull up. Laugh loud. Leave happy.Let’s make Princeton giggle responsibly 😎⭐ \n#JerroldB #FunnyForNoReason #CatchARisingStar #PrincetonComedy #StandUpEnergy #ComedyNightDoneRight 🎙️💛
URL:https://www.jerroldb.com/event/dec-13-princeton-nj-2/
LOCATION:Catch A Rising Star\, 102 Carnegie Center Dr\, Princeton\, NJ\, 07446\, United States
CATEGORIES:Upcoming Shows
END:VEVENT
END:VCALENDAR