BEGIN:VCALENDAR
VERSION:2.0
PRODID:-//Comedian JerroldB - ECPv6.15.20//NONSGML v1.0//EN
CALSCALE:GREGORIAN
METHOD:PUBLISH
X-ORIGINAL-URL:https://www.jerroldb.com
X-WR-CALDESC:Events for Comedian JerroldB
REFRESH-INTERVAL;VALUE=DURATION:PT1H
X-Robots-Tag:noindex
X-PUBLISHED-TTL:PT1H
BEGIN:VTIMEZONE
TZID:America/New_York
BEGIN:DAYLIGHT
TZOFFSETFROM:-0500
TZOFFSETTO:-0400
TZNAME:EDT
DTSTART:20240310T070000
END:DAYLIGHT
BEGIN:STANDARD
TZOFFSETFROM:-0400
TZOFFSETTO:-0500
TZNAME:EST
DTSTART:20241103T060000
END:STANDARD
BEGIN:DAYLIGHT
TZOFFSETFROM:-0500
TZOFFSETTO:-0400
TZNAME:EDT
DTSTART:20250309T070000
END:DAYLIGHT
BEGIN:STANDARD
TZOFFSETFROM:-0400
TZOFFSETTO:-0500
TZNAME:EST
DTSTART:20251102T060000
END:STANDARD
BEGIN:DAYLIGHT
TZOFFSETFROM:-0500
TZOFFSETTO:-0400
TZNAME:EDT
DTSTART:20260308T070000
END:DAYLIGHT
BEGIN:STANDARD
TZOFFSETFROM:-0400
TZOFFSETTO:-0500
TZNAME:EST
DTSTART:20261101T060000
END:STANDARD
END:VTIMEZONE
BEGIN:VEVENT
DTSTART;TZID=America/New_York:20250926T210000
DTEND;TZID=America/New_York:20250926T230000
DTSTAMP:20260423T195242
CREATED:20250906T023354Z
LAST-MODIFIED:20250906T023354Z
UID:9294-1758920400-1758927600@www.jerroldb.com
SUMMARY:Sept 26 - Resorts\, AC
DESCRIPTION:🎤🔥 RESORTS\, ATLANTIC CITY — SEPTEMBER 26TH 🔥🎤\n\n\n🏆 HEADLINER: Jerrold B – bringing that raw\, high-energy comedy heat \n\n\n😂 Featuring killers: Ray Vasquez & Greg Giraldo\, Jr. \n\n\n🎭 Resorts Atlantic City – the city where laughter hits harder than the slots \n\n\n🕗 Thursday\, Sept 26th | 8 PM \n\n\n🎟️ Get your tickets NOW 👉 www.acjokes.com \n\n\n⚡ One night\, three heavy hitters.⚡ Atlantic City won’t know what hit ‘em.⚡ Big laughs\, bright lights\, boardwalk energy. \nDon’t gamble on another show 🎰 … bet on this one.
URL:https://www.jerroldb.com/event/sept-26-resorts-ac/
LOCATION:Resorts Casino\, 1133 Boardwalk\, Atlantic City\, NJ\, 08401\, United States
CATEGORIES:Upcoming Shows
END:VEVENT
END:VCALENDAR